BEGIN:VCALENDAR
VERSION:2.0
PRODID:-//http://bomi40.eu///NONSGML kigkonsult.se iCalcreator 2.10.15//
METHOD:PUBLISH
BEGIN:VEVENT
UID:20260419T193807CEST-4299Z1D7Mw@http://bomi40.eu/
DTSTAMP:20260419T173807Z
DESCRIPTION:Bei der kostenlosen 4-teiligen Online-Seminarreihe informieren 
 und diskutieren mit Ihnen eingeladene Expert*innen über aktuelle und anwen
 dungsnahe Themen im Bereich IPR (Intellectual Property Rights).\nVortragen
 der: Prof. Dr. Alexander J. Wurzer\, Professor for IP Management IP Busine
 ss Academy\, Universität Strasbourg | Geschäftsführender Gesellschafter\, 
 Wurzer & Kollegen\nInhalt der Veranstaltung:\nMöglichkeiten zur Absicherun
 g digitaler Technologien/Lösungen Praxisorientierte Methoden und Werkzeuge
  Fallbeispiele aus der Praxis\nAnmeldeformular\nWeitere Informationen find
 en Sie hier... http://bomi40.eu/de/service-kompetenz/veranstaltungen/ort/e
 vent/2213-ipr-seminarreihe-teil-3-4-patentschutz-fuer-digitale-loesungen
DTSTART:20210930T140000Z
DTEND:20210930T153000Z
LOCATION: Online an Ihrem PC oder Laptop ()
SUMMARY:IPR Seminarreihe\, Teil 3 / 4: Patentschutz für digitale Lösungen
URL:http://bomi40.eu/de/service-kompetenz/veranstaltungen/ort/event/2213-ip
 r-seminarreihe-teil-3-4-patentschutz-fuer-digitale-loesungen
END:VEVENT
END:VCALENDAR
