BEGIN:VCALENDAR
VERSION:2.0
PRODID:-//http://bomi40.eu///NONSGML kigkonsult.se iCalcreator 2.10.15//
METHOD:PUBLISH
BEGIN:VEVENT
UID:20260419T205408CEST-4023Zsw9vD@http://bomi40.eu/
DTSTAMP:20260419T185408Z
DESCRIPTION:Wo und unter welchen Bedingungen entsteht Innovation überhaupt?
  Welche Bereiche sind notwendig\, damit Innovation gelingt und wie können 
 Unternehmen ihre Innovationsfähigkeit einschätzen? Und was hat Vision dami
 t zu tun?\nIn der Veranstaltung&nbsp\; nehmen die Teilnehmenden eine erste
  Selbsteinschätzung der Innovationsfähigkeit ihres Unternehmens vor und ge
 hen mit ersten Ansätzen für die Weiterentwicklung zurück in den Unternehme
 nsalltag.\nDie Veranstaltung ist kostenlos\, eine Anmeldung bis 15 Uhr des
  Veranstaltungstags erforderlich.\nAnmeldeformular\nWeitere Infromationen 
 finden Sie hier... http://bomi40.eu/de/service-kompetenz/veranstaltungen/o
 rt/event/2221-cybertreff-digital-der-richtige-rahmen-macht-das-bild-wie-in
 novationen-im-unternehmen-gelingen
DTSTART:20210720T140000Z
DTEND:20210720T153000Z
LOCATION: Online an Ihrem PC oder Laptop ()
SUMMARY:cyberTREFF digital: „Der richtige Rahmen macht das Bild – wie Innov
 ationen im Unternehmen gelingen“
URL:http://bomi40.eu/de/service-kompetenz/veranstaltungen/ort/event/2221-cy
 bertreff-digital-der-richtige-rahmen-macht-das-bild-wie-innovationen-im-un
 ternehmen-gelingen
END:VEVENT
END:VCALENDAR
