BEGIN:VCALENDAR
VERSION:2.0
PRODID:-//http://bomi40.eu///NONSGML kigkonsult.se iCalcreator 2.10.15//
METHOD:PUBLISH
BEGIN:VEVENT
UID:20260419T194211CEST-0754H8gXF2@http://bomi40.eu/
DTSTAMP:20260419T174211Z
DESCRIPTION:Was zeichnet Innovationskultur aus? Was braucht ein erfolgreich
 es Innovations-Ökosystem? Und wie geht man Innovationsmanagement strategis
 ch?\nDer Allgäu Innovation Talk gibt Impulse für Unternehmen\, zeigt Best 
 Practice Beispiele auf und bietet Vernetzungsmöglichkeiten innerhalb des A
 llgäuer Ökosystems.\nDie Teilnahme am Online-Event ist kostenlos.\nAnmelde
 formular\nWeitere Informationen finden Sie hier... http://bomi40.eu/de/ser
 vice-kompetenz/veranstaltungen/ort/event/2222-allgaeu-innovation-talk-2-in
 novationskultur-im-unternehmen
DTSTART:20210610T153000Z
DTEND:20210610T173000Z
LOCATION: Online an Ihrem PC oder Laptop ()
SUMMARY:Allgäu Innovation Talk #2: Innovationskultur im Unternehmen
URL:http://bomi40.eu/de/service-kompetenz/veranstaltungen/ort/event/2222-al
 lgaeu-innovation-talk-2-innovationskultur-im-unternehmen
END:VEVENT
END:VCALENDAR
