BEGIN:VCALENDAR
VERSION:2.0
PRODID:-//http://bomi40.eu///NONSGML kigkonsult.se iCalcreator 2.10.15//
METHOD:PUBLISH
BEGIN:VEVENT
UID:20260419T191135CEST-29106sfiZv@http://bomi40.eu/
DTSTAMP:20260419T171135Z
DESCRIPTION:In der Veranstaltung „Steinbeis Lunchbreak“ geben zwei Experten
  Einblick in ihr Arbeitsfeld: Maximilian Werling und Patrick Weber sind Re
 search Assistants am Ferdinand-Steinbeis-Institut und forschen auf den Geb
 ieten Industrial Internet \, Internet 4.0 und Datengenossenschaften.\nGeme
 insam mit Moderatorin Dr. Marlene Gottwald gehen sie der Frage nach\, ob k
 ooperative Datenräume eine Chance für den Mittelstand bieten. Im Anschluss
  stehen die beiden Experten für Fragen im Live-Chat bereit.\nDie Teilnahme
  an der „Steinbeis Lunchbreak“ ist kostenfrei und ohne vorherige Anmeldung
  möglich.\nVeranstaltungslink auf Youtube\nWeitere Informationen finden Si
 e hier... http://bomi40.eu/de/service-kompetenz/veranstaltungen/ort/event/
 2229-steinbeis-lunchbreak-auf-einen-happen-mit-maximilian-werling-und-patr
 ick-weber
DTSTART:20210617T100000Z
DTEND:20210617T103000Z
LOCATION: Online an Ihrem PC oder Laptop ()
SUMMARY:Steinbeis Lunchbreak: Auf einen Happen mit Maximilian Werling und P
 atrick Weber
URL:http://bomi40.eu/de/service-kompetenz/veranstaltungen/ort/event/2229-st
 einbeis-lunchbreak-auf-einen-happen-mit-maximilian-werling-und-patrick-web
 er
END:VEVENT
END:VCALENDAR
