BEGIN:VCALENDAR
VERSION:2.0
PRODID:-//http://bomi40.eu///NONSGML kigkonsult.se iCalcreator 2.10.15//
METHOD:PUBLISH
BEGIN:VEVENT
UID:20260419T195448CEST-0193bSgthO@http://bomi40.eu/
DTSTAMP:20260419T175448Z
DESCRIPTION:Im zweiten DIH West Online Forum diskutieren die Veranstalter*i
 nnen\, in welchen Bereichen Künstliche Intelligenz für KMU interessant und
  umsetzbar ist. Anschließend besteht die Möglichkeit\, Fragen zur Podiumsd
 iskussion zu stellen und sich im virtuellen Raum zu vernetzen.\nZielgruppe
 : Interessierte aus Unternehmen\, Hochschulen und Forschungseinrichtungen
 \nModeratorin: Ruth Breu\, wissenschaftliche Leitung des DIH West und Inst
 itutsleiterin am Institut für Informatik der Universität Innsbruck\nLeitfr
 agen:\nWas umfasst Künstliche Intelligenz? In welchen Bereichen ist KI für
  KMU relevant? Welche Voraussetzungen brauchen KMU\, um KI zu nutzen? Rent
 iert sich KI auch finanziell? Wann ist das Potenzial der Künstlichen Intel
 ligenz ausgeschöpft?\nDie Veranstaltung ist kostenfrei.\nEine Anmdelung is
 t bis 8. Juni 2021 möglich.\nAnmeldungsformular\nWeitere Informationen zur
  Veranstaltung finden Sie hier... http://bomi40.eu/de/service-kompetenz/ve
 ranstaltungen/ort/event/2230-zweites-dih-west-online-forum-kuenstliche-int
 elligenz-fuer-kmu-aufwand-vs-nutzen
DTSTART:20210609T140000Z
DTEND:20210609T154000Z
LOCATION: Online an Ihrem PC oder Laptop ()
SUMMARY:Zweites DIH West Online Forum – Künstliche Intelligenz für KMU: Auf
 wand vs. Nutzen
URL:http://bomi40.eu/de/service-kompetenz/veranstaltungen/ort/event/2230-zw
 eites-dih-west-online-forum-kuenstliche-intelligenz-fuer-kmu-aufwand-vs-nu
 tzen
END:VEVENT
END:VCALENDAR
