BEGIN:VCALENDAR
VERSION:2.0
PRODID:-//http://bomi40.eu///NONSGML kigkonsult.se iCalcreator 2.10.15//
METHOD:PUBLISH
BEGIN:VEVENT
UID:20260419T191008CEST-3425lKB89O@http://bomi40.eu/
DTSTAMP:20260419T171008Z
DESCRIPTION:Die Digitalisierung ist da. Insbesondere die letzten Monate hab
 en deutlich gezeigt: Die Anforderungen an die IT wachsen stetig und manchm
 al ist schnelles Handeln gefordert. Aber womit starten Sie? Wo finden Sie 
 konkrete Antworten und Anleitungen? Und wie überprüfen Sie\, ob es Sicherh
 eitslücken gibt? Auf diese Fragen gehen die Veranstalter*innen im Swisscom
  KMU-Forum ein.\nProgramm:\n08:00 – 08:05 Uhr: Cup of Coffee mit Roger Kel
 ler und Reto Baschera08:15 – 08:40 Uhr: Produktneuheit: Ein Kassensystem\,
  das mehr kann10:30 – 11:00 Uhr: KMU live: erfolgreiche Unternehmen im Ges
 präch11:15 – 12:00 Uhr: 3 Business-Killer\, die jedes KMU vermeiden sollte
 13:00 – 13:45 Uhr: Häufige Fehler im Zusammenhang mit Cyber-Security14:00 
 – 14:45 Uhr: Neue Arbeitswelt: Technologie unterstützt Kulturwandel\nWas n
 ehmen Sie nach diesem Event mit?\n- Eine klare Anleitung\, um Effizienz-Ki
 ller in Ihrem KMU zu vermeiden  - Tipps und Tricks fürs Arbeiten im Homeof
 fice - Die 5 grössten Sicherheitslücken und wie Sie diese schnell schliess
 en können\nAnmeldeformular\nDie Veranstaltung ist kostenlos.\nWeitere Info
 rmationen zur Veranstaltung finden Sie hier... http://bomi40.eu/de/service
 -kompetenz/veranstaltungen/ort/event/2238-swisscom-kmu-forum
DTSTART:20210629T060000Z
DTEND:20210629T124500Z
LOCATION: Online an Ihrem PC oder Laptop ()
SUMMARY:Swisscom KMU-Forum
URL:http://bomi40.eu/de/service-kompetenz/veranstaltungen/ort/event/2238-sw
 isscom-kmu-forum
END:VEVENT
END:VCALENDAR
