BEGIN:VCALENDAR
VERSION:2.0
PRODID:-//http://bomi40.eu///NONSGML kigkonsult.se iCalcreator 2.10.15//
METHOD:PUBLISH
BEGIN:VEVENT
UID:20260419T203556CEST-85685uZITc@http://bomi40.eu/
DTSTAMP:20260419T183556Z
DESCRIPTION:Zusammen wachsen in Europa - Digitale Informations- und Netzwer
 kveranstaltung zu Beginn der neuen Förderperiode (2021 – 2027) der transna
 tionalen Interreg-B-Programme am 8. Juli 2021.\nÜber die Interreg-Programm
 e oder\, wie es offiziell heißt\, die 'europäische territoriale Zusammenar
 beit'\, unterstützt die Europäische Union die Zusammenarbeit zwischen EU-M
 itgliedstaaten und auch benachbarten Nicht-EU-Ländern. Im Rahmen der trans
 nationalen Zusammenarbeit (Interreg B) werden Kooperationen zwischen natio
 nalen\, regionalen und kommunalen Partnern in transnationalen Kooperations
 räumen gefördert. Baden-Württemberg – im Herzen Europas gelegen – ist dabe
 i in den Räumen Donau\, Nordwesteuropa\, Mitteleuropa und Alpen vertreten 
 und beteiligt sich an den makroregionalen Strategien für den Donau- und Al
 penraum.\nFragen:\nWie funktioniert die Antragstellung? Was ist das Geheim
 nis erfolgreicher Projekte? Was ändert sich in der neuen Förderperiode? We
 lchen Nutzen hat Interreg für mein Unternehmen / meine Institution? Und wi
 e geht es weiter nach erfolgreicher Antragstellung?\nZielgruppe:\nUnterneh
 men\, Institutionen\, Verbände und Kommunen\, die Interesse an einer Antra
 gstellung haben\, die in der Vergangenheit bereits Interreg B-Projekte umg
 esetzt haben oder sich grundsätzlich über die Fördermöglichkeiten im Rahme
 n von Interreg B informieren möchten\, sowie an an alle\, die grundsätzlic
 h an der regionalen Zusammenarbeit in Europa interessiert sind.\nAnmeldefo
 rmular\nWeitere Informationen finden Sie hier... http://bomi40.eu/de/servi
 ce-kompetenz/veranstaltungen/ort/event/2241-digitale-konferenz-zusammen-wa
 chsen-in-europa
DTSTART:20210708T073000Z
DTEND:20210708T151500Z
LOCATION: Online an Ihrem PC oder Laptop ()
SUMMARY:Digitale Konferenz 'Zusammen wachsen in Europa'
URL:http://bomi40.eu/de/service-kompetenz/veranstaltungen/ort/event/2241-di
 gitale-konferenz-zusammen-wachsen-in-europa
END:VEVENT
END:VCALENDAR
