BEGIN:VCALENDAR
VERSION:2.0
PRODID:-//http://bomi40.eu///NONSGML kigkonsult.se iCalcreator 2.10.15//
METHOD:PUBLISH
BEGIN:VEVENT
UID:20260419T190937CEST-7021m3K6NT@http://bomi40.eu/
DTSTAMP:20260419T170937Z
DESCRIPTION:HackZurich ist Europa’s renommiertester Programmier- und Innova
 tionswettbewerb für Technologie-Talente. Die Veranstaltung bietet eine ein
 zigartige Gelegenheit\, mit neuen Technologien\, Innovationsmöglichkeiten 
 und einer Auswahl der weltbesten Tech-Talente in Kontakt zu treten. Im Mit
 telpunkt von HackZurich stehen der Spaß\, der Wissensaustausch sowie die e
 inzigartige Atmosphäre und Möglichkeiten zum gegenseitigen Lernen und Insp
 irieren.\nIm Jahr 2020 haben die Veranstalter*innen das hybride Hackathon-
 Konzept erfolgreich ins Leben gerufen und dabei nicht nur eine Vorreiterro
 lle eingenommen\, sondern auch wertvolle Erfahrungen gesammelt.\nHackZuric
 h richtet sich an Angehörige der MNF und WWF\, Computer- und Datenwissensc
 haften\, Ingenieurwissenschaften\, Mathematik und Physik.\nReferent: Phil 
 Libin\nEine Anmdelung ist ab dem 23. Juni 2021 über das Anmeldeformular mö
 glich.\nDie Teilnahme am HackZurich ist kostenlos und Reisekosten werden r
 ückerstattet.\nWeitere Informationen zur Veranstaltung finden Sie hier... 
 http://bomi40.eu/de/service-kompetenz/veranstaltungen/ort/event/2242-hackz
 urich
DTSTART:20210923T060000Z
DTEND:20210926T160000Z
LOCATION: Online an Ihrem PC oder Laptop ()
SUMMARY:HackZurich
URL:http://bomi40.eu/de/service-kompetenz/veranstaltungen/ort/event/2242-ha
 ckzurich
END:VEVENT
END:VCALENDAR
