BEGIN:VCALENDAR
VERSION:2.0
PRODID:-//http://bomi40.eu///NONSGML kigkonsult.se iCalcreator 2.10.15//
METHOD:PUBLISH
BEGIN:VEVENT
UID:20260419T191248CEST-2583vHd2W9@http://bomi40.eu/
DTSTAMP:20260419T171248Z
DESCRIPTION:Der Fokus des Stakeholderdialogs soll auf der gesellschaftliche
 n Transformation liegen\, den der digitale Wandel angestoßen hat. Die Vera
 nstaltungen sollen Akteurinnen und Akteure aus verschiedenen gesellschaftl
 ichen Gruppen unterstützen\, selbst einen Beitrag für eine nachhaltige Ges
 taltung zu leisten.\nFragen:\nWelche Prozesse stehen hinter Online-Shoppin
 g\, Produktdesign oder Lieferkettentransparenz? Was bringt künstliche Inte
 lligenz\, Social Media oder Augmented Reality für die Nachhaltigkeitsbeweg
 ung\, Bildung und Teilhabe? Wie können wir den digitalen Wandel für die na
 chhaltige Entwicklung nutzen?\nTalkrunde:\nThekla WalkerVivian FrickDr. In
 g. Uwe WössnerKerstin FritzscheProfessor Dr. Hannah Schmid-Petri\nAnmeldef
 ormular.\nWeitere Informationen finden Sie hier... http://bomi40.eu/de/ser
 vice-kompetenz/veranstaltungen/ort/event/2244-stakeholderdialog-nachhaltig
 e-digitalisierung
DTSTART:20210716T080000Z
DTEND:20210716T101000Z
LOCATION: Online an Ihrem PC oder Laptop ()
SUMMARY:Stakeholderdialog - Nachhaltige Digitalisierung 
URL:http://bomi40.eu/de/service-kompetenz/veranstaltungen/ort/event/2244-st
 akeholderdialog-nachhaltige-digitalisierung
END:VEVENT
END:VCALENDAR
