BEGIN:VCALENDAR
VERSION:2.0
PRODID:-//http://bomi40.eu///NONSGML kigkonsult.se iCalcreator 2.10.15//
METHOD:PUBLISH
BEGIN:VEVENT
UID:20260419T175703CEST-2541hzlPKR@http://bomi40.eu/
DTSTAMP:20260419T155703Z
DESCRIPTION:Der Investor Summit Liechtenstein vernetzt seit zehn Jahren Inv
 estoren und Entscheidungsträger mit innovativen Start-ups und Wachstumsunt
 ernehmen.So auch bei der Ausgabe vom 30. November 2021.\nAcht ausgewählte 
 Start-ups und Wachstumsunternehmen auf Kapitalsuche präsentieren sich vor 
 einem hochkarätigen Publikum.\nDie Teilnehmerinnen und Teilnehmer erhalten
  so die einzigartige Möglichkeit\,&nbsp\;neue Innovationen und spannende G
 eschäftsmodelle kennenzulernen und können sich am Anschluss an die Veranst
 altung bei einem Apéro vernetzen.\nProgramm: 2 Teile\n13.00 Uhr:&nbsp\;Ste
 hlunch -&nbsp\;Eintreffen der Gäste13.30 Uhr:&nbsp\;Begrüssung13.40&nbsp\;
 Uhr: Keynote 'Investing with Impact'14.10&nbsp\;Uhr:&nbsp\;Start-up Pitche
 s\nTeil 114.50&nbsp\;Uhr: Erfrischungspause und Networking15.40&nbsp\;Uhr:
  Talk 'Gründen und Investieren in Liechtenstein'16.00&nbsp\;Uhr:&nbsp\;Sta
 rt-up Pitches\nTeil 216.40&nbsp\;Uhr:&nbsp\;Kamingespräch17.10&nbsp\;Uhr: 
 Networking-Apéro\nBewerbungsformular\nAnmeldeformular\nWeitere Information
 en zur Veranstaltung finden Sie hier... http://bomi40.eu/de/service-kompet
 enz/veranstaltungen/ort/event/2245-investor-summit-liechtenstein-2021
DTSTART:20211130T123000Z
DTEND:20211130T161000Z
LOCATION:Veranstaltungszentrum SAL (Saal am Lindaplatz)\, Schaan (Landstras
 se 19\, 9494 Schaan\, Liechtenstein)
SUMMARY:Investor Summit Liechtenstein 2021
URL:http://bomi40.eu/de/service-kompetenz/veranstaltungen/ort/event/2245-in
 vestor-summit-liechtenstein-2021
END:VEVENT
END:VCALENDAR
