BEGIN:VCALENDAR
VERSION:2.0
PRODID:-//http://bomi40.eu///NONSGML kigkonsult.se iCalcreator 2.10.15//
METHOD:PUBLISH
BEGIN:VEVENT
UID:20260419T191255CEST-9978zT7KlD@http://bomi40.eu/
DTSTAMP:20260419T171255Z
DESCRIPTION:Künstliche Intelligenz ist eine der Schlüsseltechnologien für d
 ie digitale Zukunft. Besonders Start-ups zeigen immer wieder Möglichkeiten
  auf\, wie man die Technologie durch neue Geschäftsmodelle in die Anwendun
 g bringt und wie man damit digitale Innovationen vorantreibt — so auch in 
 der Vierländerregion Bodensee. Bei „KI made @ Bodensee“ stellen KI-Startup
 s ihre KI-Innovation vor.\nDie Veranstaltung ist kostenlos\, eine Anmeldun
 g bis 15 Uhr des Veranstaltungstags erforderlich.\nAnmeldeformular\nWeiter
 e Informationen finden Sie hier... http://bomi40.eu/de/service-kompetenz/v
 eranstaltungen/ort/event/2248-ki-made-bodensee-start-ups-zeigen-ihre-innov
 ativen-ki-ideen-tag-2
DTSTART:20210706T140000Z
DTEND:20210706T153000Z
LOCATION: Online an Ihrem PC oder Laptop ()
SUMMARY:KI made @ Bodensee: Start-ups zeigen ihre innovativen KI-Ideen (Tag
  2)
URL:http://bomi40.eu/de/service-kompetenz/veranstaltungen/ort/event/2248-ki
 -made-bodensee-start-ups-zeigen-ihre-innovativen-ki-ideen-tag-2
END:VEVENT
END:VCALENDAR
