BEGIN:VCALENDAR
VERSION:2.0
PRODID:-//http://bomi40.eu///NONSGML kigkonsult.se iCalcreator 2.10.15//
METHOD:PUBLISH
BEGIN:VEVENT
UID:20260419T190935CEST-2151LpDIoK@http://bomi40.eu/
DTSTAMP:20260419T170935Z
DESCRIPTION:In diesem Workshop bekommen die Teilnehmer*innen einen Einblick
  in die Voraussetzungen\, die notwendig sind\, um (unstrukturierte) Daten 
 sinnvoll mit Machine oder Deep Learning nutzen zu können und lernen die Me
 thoden (insbesondere Labeling mit Active Learning) kennen\, mit denen man 
 sie dafür aufbereiten und verwertbar machen kann.\nDie Veranstaltung ist k
 ostenlos\, eine Anmeldung ist&nbsp\;erforderlich.\nAnmeldeformular\nWeiter
 e Informationen finden Sie hier... http://bomi40.eu/de/service-kompetenz/v
 eranstaltungen/ort/event/2249-von-big-data-zu-smart-data-tag-3
DTSTART:20210707T073000Z
DTEND:20210707T103000Z
LOCATION: Online an Ihrem PC oder Laptop ()
SUMMARY:Von Big Data zu Smart Data (Tag 3)
URL:http://bomi40.eu/de/service-kompetenz/veranstaltungen/ort/event/2249-vo
 n-big-data-zu-smart-data-tag-3
END:VEVENT
END:VCALENDAR
