BEGIN:VCALENDAR
VERSION:2.0
PRODID:-//http://bomi40.eu///NONSGML kigkonsult.se iCalcreator 2.10.15//
METHOD:PUBLISH
BEGIN:VEVENT
UID:20260419T193107CEST-4698suT1oV@http://bomi40.eu/
DTSTAMP:20260419T173107Z
DESCRIPTION:Künstliche Intelligenz wurde entwickelt\, um Probleme zu lösen 
 – und kann das in vielen Bereichen auch deutlich besser als der Mensch. Da
 s klingt zunächst einmal gut. Und doch resultieren gleich mehrere neue Pro
 bleme daraus und die Technologie verändert unsere Arbeits- und Lebenswelt 
 bereits im Eiltempo\, obwohl wir erst am Anfang dieses Veränderungsprozess
 es stehen.\nWas bedeutet all das für das künftige Menschsein? Welche Herau
 sforderungen müssen gelöst werden? Gibt es so etwas wie eine gesellschafts
 verträgliche KI und wie kann diese aussehen? Welche Grenzen müssen wir für
  den Einsatz der Technologie ziehen? Und was soll und darf Künstliche Inte
 lligenz in Zukunft können?\nDiese und weitere Fragen werden beim cyberTALK
  „Was darf künstliche Intelligenz?“ in dieser Veranstaltung diskutiert.\nD
 ie Veranstaltung ist kostenlos\, eine Anmeldung bis 15 Uhr des Veranstaltu
 ngstags erforderlich.\nAnmeldeformular\nWeitere Informationen finden Sie h
 ier... http://bomi40.eu/de/service-kompetenz/veranstaltungen/ort/event/225
 0-cybertalk-was-darf-kuenstliche-intelligenz-tag-4
DTSTART:20210708T144500Z
DTEND:20210708T160000Z
LOCATION: Online an Ihrem PC oder Laptop ()
SUMMARY:cyberTALK: „Was darf künstliche Intelligenz?“ (Tag 4)
URL:http://bomi40.eu/de/service-kompetenz/veranstaltungen/ort/event/2250-cy
 bertalk-was-darf-kuenstliche-intelligenz-tag-4
END:VEVENT
END:VCALENDAR
