BEGIN:VCALENDAR
VERSION:2.0
PRODID:-//http://bomi40.eu///NONSGML kigkonsult.se iCalcreator 2.10.15//
METHOD:PUBLISH
BEGIN:VEVENT
UID:20260419T191535CEST-1950osa4Vu@http://bomi40.eu/
DTSTAMP:20260419T171535Z
DESCRIPTION:Alle Unternehmen sind gefordert\, in der schnelllebigen Zeit de
 r digitalen und sozialen Veränderungen auf neue Gegebenheiten zu reagieren
 . Das Innovationsforum Zürich Park Side widmet sich 2021 den Fragen der KM
 U-Betriebe und wirft einen Blick zurück auf Erkenntnisse der vergangenen M
 onate.\nProgramm:16.30 Uhr: Eintreffen der Teilnehmenden17.00 Uhr: Begrüss
 ung17.10 Uhr: Impuls Referat17.40 Uhr: Best-Practice18.00 Uhr: Impuls Refe
 rat18.15 Uhr: Tischgespräche19.00 Uhr: SchlusswortApéro\nSie können sich a
 uf spannende Impuls-Refreate und einem abschließenden Apéro freuen.\nWeite
 re Informationen zur Veranstaltung finden Sie hier... http://bomi40.eu/de/
 service-kompetenz/veranstaltungen/ort/event/2258-6-innovationsforum-zueric
 h-park-side
DTSTART:20210927T143000Z
DTEND:20210927T170000Z
LOCATION:horgen (Horgen\, Schweiz)
SUMMARY: 6. Innovationsforum Zürich Park Side 
URL:http://bomi40.eu/de/service-kompetenz/veranstaltungen/ort/event/2258-6-
 innovationsforum-zuerich-park-side
END:VEVENT
END:VCALENDAR
