BEGIN:VCALENDAR
VERSION:2.0
PRODID:-//http://bomi40.eu///NONSGML kigkonsult.se iCalcreator 2.10.15//
METHOD:PUBLISH
BEGIN:VEVENT
UID:20260419T193249CEST-8380LE6Voz@http://bomi40.eu/
DTSTAMP:20260419T173249Z
DESCRIPTION:Das Thema des 3. Digital Health Lab Days der ZHAW lautet: 'Impl
 ementing Digital Health Innovations'.\nIn Keynotes\, Workshops\, Start-up-
 Pitches und weiteren Formaten werden die Entwicklungen und konkrete Anwend
 ungen digitaler Lösungen für das Gesundheitswesen vorgestellt und diskutie
 rt. Im Speziellen wird auf die Vernetzung\, kontaktlose Beratungs- und Beh
 andlungsmöglichkeiten sowie die künstliche Intelligenz für medizinische An
 alysen eingegangen und damit aufgezeigt\, dass die Digitalisierung eine gr
 oße Chance für ein qualitativ hochstehendes und kosteneffizientes Gesundhe
 itssystem ist.\nKnüpfen Sie an unserer jährlichen Veranstaltung neue Konta
 kte und gestalten Sie die Zukunft unseres Gesundheitswesens!\nProgramm:09.
 00 Uhr: Begrüßungen durch Prof. Dr. Jean-Marc Piveteau\, Rektor ZHAW\, und
  Prof. Dr. Andreas Gerber-Grote\, Direktor ZHAW-Departement Gesundheit 09.
 10 Uhr: Referate und Keynotes von Prof. Dr. Sven Hirsch\, Prof. Dr. med. M
 ichael Krauthammer und Prof. Dr. Alfred Angerer 10.15 Uhr: Pause 10.45 Uhr
 : Workshops 12.00 Uhr: Mittagspause und Start-up-Pitches (Start um 12.45 U
 hr) 13.45 Uhr: Workshops 15.00 Uhr: Pause 15.45 Uhr: Keynote von Prof. Kat
 arzyna Wac 16.15 Uhr: Prämierung bestes Poster und beste Start-up-Pitches\
 , Zusammenfassung des Digital Health Lab Days 16.50 Uhr: Networking Apéro
 \nKosten: Normalpreis CHF 150.- // ZHAW-Mitarbeitende CHF 50.- // Studiere
 nde BSc\, MSc und MAS (von allen Hochschulen) CHF 25.- // Online-Teilnahme
  gratis.\nAnmeldeschluss: 31. August 2021. Begrenzte Platzzahl bei den Wor
 kshops.\nAnmeldung\nWeitere Informationen zur Veranstaltung finden Sie hie
 r... http://bomi40.eu/de/service-kompetenz/veranstaltungen/ort/event/2259-
 3-digital-health-lab-day
DTSTART:20210916T070000Z
DTEND:20210916T145000Z
LOCATION:ZHAW-Departement Gesundheit\, Katharina-Sulzer-Platz 9\, 8400 Wint
 erthur (Katharina-Sulzer-Platz 9\, 8400 Winterthur\, Schweiz)
SUMMARY:3. Digital Health Lab Day
URL:http://bomi40.eu/de/service-kompetenz/veranstaltungen/ort/event/2259-3-
 digital-health-lab-day
END:VEVENT
END:VCALENDAR
