BEGIN:VCALENDAR
VERSION:2.0
PRODID:-//http://bomi40.eu///NONSGML kigkonsult.se iCalcreator 2.10.15//
METHOD:PUBLISH
BEGIN:VEVENT
UID:20260419T205408CEST-4143vEsbVg@http://bomi40.eu/
DTSTAMP:20260419T185408Z
DESCRIPTION:Angetrieben von Kreativität und Inspiration\, mit herausragende
 n Inhalten\, unvergesslichen Erlebnissen und einer hochkarätigen Community
  bringen wir Sie auf das nächste Level. Erleben Sie die Kraft der Kollabor
 ation\, erweiteren Sie Ihr Netzwerk und entwickeln Sie Ideen\, die Ihr per
 sönliches Wachstum fördern.\nDas Digital Festival ist die Schweizer Plattf
 orm für Digital Leaders\, Digital Aficionados und Innovatoren\, die durch 
 Neugier\, Offenheit und Macher Mentalität vereint werden.\nTicketsOnline T
 ickets\nWeitere Informationen zur Veranstaltung finden Sie hier... http://
 bomi40.eu/de/service-kompetenz/veranstaltungen/ort/event/2260-digital-fest
 ival-zuerich
DTSTART:20210923T060000Z
DTEND:20210926T170000Z
LOCATION:Digital Festival | Wallisellenstrasse 49 | 8050 Zürich | Schweiz (
 Wallisellenstrasse 49\, 8050 Zürich\, Schweiz)
SUMMARY:Digital Festival Zürich
URL:http://bomi40.eu/de/service-kompetenz/veranstaltungen/ort/event/2260-di
 gital-festival-zuerich
END:VEVENT
END:VCALENDAR
