BEGIN:VCALENDAR
VERSION:2.0
PRODID:-//http://bomi40.eu///NONSGML kigkonsult.se iCalcreator 2.10.15//
METHOD:PUBLISH
BEGIN:VEVENT
UID:20260419T191410CEST-9530bFhAdl@http://bomi40.eu/
DTSTAMP:20260419T171410Z
DESCRIPTION:Unter dem Leitmotiv „Stay hungry\, stay foolish.“ (Steve Jobs) 
 wollen die Veranstalter folgende Fragen diskutieren: Warum schaffen Algori
 thmen und digitale Geschäftsmodelle Wert? Was bedeutet Digitalisierung für
  die Zukunft der Wertschöpfung? Wie gelingt die digitale Transformation im
  Zeitalter „Künstlicher Intelligenz“?\nDie Ringvorlesung „SHAPING THE FUTU
 RE – TOGETHER! wird seit dem Wintersemester 2016/17 von der Fakultät Wirts
 chafts-\, Kultur- und Rechtswissenschaften (WS) veranstaltet und von den P
 rof. Dr. Michael C. Hadamitzky\, Prof. Dr. Clothilde Rohleder sowie Prof. 
 Dr.-Ing. Stefan Schweiger kuratiert und moderiert.\nUm einen interdiszipli
 nären Wissensaustausch und einen zukunftsorientierten Diskurs zu fördern\,
  referieren namhafte Experten und Expertinnen sowie ausgewiesene Gestalter
  und Gestalterinnen zu aktuellen Themen aus der Unternehmens- und Wissensc
 haftspraxis.\nInformation und Anmeldung (für Externe) per Mail an digitalt
 uesday@htwg-konstanz.de.\nWeitere Informationen zur Veranstaltung finden S
 ie hier... http://bomi40.eu/de/service-kompetenz/veranstaltungen/ort/event
 /2264-8-oeffentliche-ringvorlesung-digital-tuesday-shaping-the-future-toge
 ther
DTSTART:20211005T153000Z
DTEND:20211005T170000Z
LOCATION: Online an Ihrem PC oder Laptop ()
SUMMARY:8. Öffentliche Ringvorlesung: DIGITAL TUESDAY – SHAPING THE FUTURE 
 – TOGETHER!
URL:http://bomi40.eu/de/service-kompetenz/veranstaltungen/ort/event/2264-8-
 oeffentliche-ringvorlesung-digital-tuesday-shaping-the-future-together
END:VEVENT
END:VCALENDAR
