BEGIN:VCALENDAR
VERSION:2.0
PRODID:-//http://bomi40.eu///NONSGML kigkonsult.se iCalcreator 2.10.15//
METHOD:PUBLISH
BEGIN:VEVENT
UID:20260419T191534CEST-2007mGm6NB@http://bomi40.eu/
DTSTAMP:20260419T171534Z
DESCRIPTION:Der DLR Projektträger führt einen Beratungstag zu der BMBF-Förd
 ermaßnahme „KMU-innovativ: IKT“ in digitaler Form (Webmeeting) durch. Die 
 Einladung richtet sich an Vertreterinnen und Vertreter forschender KMU\, d
 ie sich für ein Förderprojekt des BMBF innerhalb dieser Maßnahme bewerben 
 möchten.\nGeplant ist eine kurze Vorstellung der Fördermaßnahme mit einer 
 nachfolgenden Frage-Antwort-Runde zu inhaltlichen und formalen Fragen von 
 Projektideen\, die als Skizze eingereicht werden sollen. Außerdem sollen e
 rfolgreiche Projektbeispiele vorgestellt werden.\nAnmeldung\nDie Teilnehme
 rzahl ist begrenzt. Der Einwahllink wird Ihnen einige Tage vor der Veranst
 altung per e-mail mitgeteilt. Weitere Informationen werden im Vorfeld hier
  veröffentlicht.\nWeitere Informationen zur Veranstaltung finden Sie hier.
 .. http://bomi40.eu/de/service-kompetenz/veranstaltungen/ort/event/2265-be
 ratungstag-kmu-innovativ-ikt
DTSTART:20210908T110000Z
DTEND:20210908T150000Z
LOCATION: Online an Ihrem PC oder Laptop ()
SUMMARY:Beratungstag 'KMU-innovativ: IKT'
URL:http://bomi40.eu/de/service-kompetenz/veranstaltungen/ort/event/2265-be
 ratungstag-kmu-innovativ-ikt
END:VEVENT
END:VCALENDAR
