BEGIN:VCALENDAR
VERSION:2.0
PRODID:-//http://bomi40.eu///NONSGML kigkonsult.se iCalcreator 2.10.15//
METHOD:PUBLISH
BEGIN:VEVENT
UID:20260419T192404CEST-5730WHKW83@http://bomi40.eu/
DTSTAMP:20260419T172404Z
DESCRIPTION:Uwe Sommer\, Geschäftsführer der NetCon GmbH in Greven\, zeigt 
 in seinem Vortrag aktuelle Gefahren im Umgang mit Passwörtern auf und stel
 lt praktikable Alternativen zum Passwort vor.\nEr wird außerdem einen span
 nenden Einblick in aktuelle Cyber-Angriffsszenarien geben. Ergänzend stell
 en Andrea Felsch und Norbert Speier die Transferstelle für IT-Sicherheit i
 m Mittelstand vor.\nEine Veranstaltung der IHK Nordwestfalen in Kooperatio
 n mit der Handwerkskammer Münster mit Uwe Sommer\, Geschäftsführer der Net
 Con GmbH.\nDie Veranstaltung ist kostenfrei.\nAnmeldung\nWeitere Informati
 onen zur Veranstaltung finden Sie hier... http://bomi40.eu/de/service-komp
 etenz/veranstaltungen/ort/event/2274-cybersicherheit-e-mailsicherheit-und-
 passwortschutz-mal-ganz-praktisch
DTSTART:20210811T080000Z
DTEND:20210811T090000Z
LOCATION: Online an Ihrem PC oder Laptop ()
SUMMARY:'Cybersicherheit: E-Mailsicherheit und Passwortschutz mal ganz prak
 tisch' 
URL:http://bomi40.eu/de/service-kompetenz/veranstaltungen/ort/event/2274-cy
 bersicherheit-e-mailsicherheit-und-passwortschutz-mal-ganz-praktisch
END:VEVENT
END:VCALENDAR
