BEGIN:VCALENDAR
VERSION:2.0
PRODID:-//http://bomi40.eu///NONSGML kigkonsult.se iCalcreator 2.10.15//
METHOD:PUBLISH
BEGIN:VEVENT
UID:20260419T194332CEST-7980GkZpiM@http://bomi40.eu/
DTSTAMP:20260419T174332Z
DESCRIPTION:Zur Anmeldung\nAm Dienstag den\, 12.10.2021 findet der nächste 
 KI-Workshop der Workshop-Reihe 'Künstliche Intelligenz' statt.Der Referent
  Prof. Dr. Michael Blaich von der HTWG Konstanz\, beleuchtet in seinem Wor
 kshop das Thema 'Mobile Roboter - Herausforderungen und Lösungen bei Lokal
 isierung und Navigation'. Im Workshop thematisiert Prof. Dr. Michael Blaic
 h\, die Themen Lokalisierung und Navigation mobiler Roboter in Gebäuden. E
 s werden Grundlagen als auch aktuelle Algorithmen zum Lösen beider Problem
 stellungen vorgstellt. Mit praktischen Beispielen wird gezeigt\, wie mit H
 ilfe des Robot Operating System (ROS/ROS2) sowohl die Lokalisierung als au
 ch die Navigation von mobiler Roboter realisiert werden kann.\n&nbsp\;Nutz
 en Sie die KI-Kompetenz aus der Hochschullandschaft der Vierländerregion B
 odensee für Ihr Unternehmen!\n\n&nbsp\;Für die Großansicht des Plakats kli
 cken Sie einfach auf den PDF-Download-Link.\nZur Anmeldung http://bomi40.e
 u/de/service-kompetenz/veranstaltungen/ort/event/2309-workshop-reihe-kuens
 tliche-intelligenz-mobile-roboter-herausforderungen-und-loesungen-bei-loka
 lisierung-und-navigation
DTSTART:20211012T130000Z
DTEND:20211012T160000Z
LOCATION: Online an Ihrem PC oder Laptop ()
SUMMARY:Workshop-Reihe Künstliche Intelligenz: Mobile Roboter - Herausforde
 rungen und Lösungen bei Lokalisierung und Navigation 
URL:http://bomi40.eu/de/service-kompetenz/veranstaltungen/ort/event/2309-wo
 rkshop-reihe-kuenstliche-intelligenz-mobile-roboter-herausforderungen-und-
 loesungen-bei-lokalisierung-und-navigation
END:VEVENT
END:VCALENDAR
