BEGIN:VCALENDAR
VERSION:2.0
PRODID:-//http://bomi40.eu///NONSGML kigkonsult.se iCalcreator 2.10.15//
METHOD:PUBLISH
BEGIN:VEVENT
UID:20260419T204152CEST-1855mkUAUK@http://bomi40.eu/
DTSTAMP:20260419T184152Z
DESCRIPTION:Zur Anmeldung\nAm Dienstag\, den 19.10.2021 startet die Worksho
 p-Reihe zum Thema 'Künstliche Intelligenz' in die nächste Runde.Der Refere
 nt Prof. Dr. -Ing. Stefan Waitzinger von der HTWG Konstanz gegrüßt die Tei
 lnehmer*innen zum Thema 'KI-Anwendungen in der Prozessoptimierung und dem 
 Business Development'.\nDieser Workshop richtet sich an mitteständische Un
 ternehmen und will betrachten\, wie in unternehmerischen Wertschöpfungspro
 zessen bereits heute intelligente Softwarelösungen einen Mehrwert bieten k
 önnen und welche Potenziale perspektivisch in den nächsten Jahren erkennba
 r sind. Dabei soll insbesondere auf Voraussetzungen für die Implementierun
 g\, relevante Aspekte bei der Auswahl von Lösungen und Rahmenbedingungen f
 ür die klassische Business Case Bewertungen eingegangen werden.\nNutzen Si
 e die KI-Kompetenz aus der Hochschullandschaft der Vierländerregion Bodens
 ee für Ihr Unternehmen!\n\nFür die Großansicht des Plakats klicken Sie ein
 fach auf den PDF-Download-Link.\nZur Anmeldung http://bomi40.eu/de/service
 -kompetenz/veranstaltungen/ort/event/2312-workshop-reihe-kuenstliche-intel
 ligenz-ki-anwendungen-in-der-prozessoptimierung-und-dem-buisness-developme
 nt
DTSTART:20211019T130000Z
DTEND:20211019T160000Z
LOCATION: Online an Ihrem PC oder Laptop ()
SUMMARY:Workshop-Reihe Künstliche Intelligenz: KI-Anwendungen in der Prozes
 soptimierung und dem Buisness Development
URL:http://bomi40.eu/de/service-kompetenz/veranstaltungen/ort/event/2312-wo
 rkshop-reihe-kuenstliche-intelligenz-ki-anwendungen-in-der-prozessoptimier
 ung-und-dem-buisness-development
END:VEVENT
END:VCALENDAR
