BEGIN:VCALENDAR
VERSION:2.0
PRODID:-//http://bomi40.eu///NONSGML kigkonsult.se iCalcreator 2.10.15//
METHOD:PUBLISH
BEGIN:VEVENT
UID:20260419T203718CEST-1897oVmKI6@http://bomi40.eu/
DTSTAMP:20260419T183718Z
DESCRIPTION:Öffentliche Auftraggeber vergeben Jahr für Jahr eine Vielzahl v
 on öffentlichen Bau-\, Liefer- und Dienstleistungsaufträgen. Davon können 
 auch und insbesondere KMU profitieren. Gleichzeitig schrecken das komplexe
  Vergabeverfahren und die rechtlichen „Tretminen“ viele Unternehmen ab\, d
 a sie nicht genau wissen\, wie sie vorgehen müssen.\nWie funktioniert das 
 Verfahren bei öffentlichen Ausschreibungen? Was müssen KMU bei der Teilnah
 me beachten und welche Vorbereitungen müssen getroffen werden? Diese und w
 eitere Fragen rund um öffentliche Ausschreibungen werden beim digitalen cy
 berTREFF beantwortet.\nProgramm:16:00 Uhr: Begrüßung und aktuelles aus dem
  cyberLAGO Netzwerk16:15 Uhr: Vortrag16:45 Uhr: Fragen und Diskussion\nDie
  Veranstaltung ist kostenlos\, eine Anmeldung bis 15 Uhr des Veranstaltung
 stags erforderlich.\nAnmeldung\nWeitere Informationen zur Veranstaltung fi
 nden Sie hier... http://bomi40.eu/de/service-kompetenz/veranstaltungen/ort
 /event/2317-cybertreff-digital-keine-angst-vor-oeffentlichen-ausschreibung
 en-strukturierte-vergabeprojekte-mithilfe-des-juror-konzepts
DTSTART:20210908T140000Z
DTEND:20210908T153000Z
LOCATION: Online an Ihrem PC oder Laptop ()
SUMMARY:cyberTREFF digital: „Keine Angst vor öffentlichen Ausschreibungen: 
 Strukturierte Vergabeprojekte mithilfe des JUROR-Konzepts“
URL:http://bomi40.eu/de/service-kompetenz/veranstaltungen/ort/event/2317-cy
 bertreff-digital-keine-angst-vor-oeffentlichen-ausschreibungen-strukturier
 te-vergabeprojekte-mithilfe-des-juror-konzepts
END:VEVENT
END:VCALENDAR
