BEGIN:VCALENDAR
VERSION:2.0
PRODID:-//http://bomi40.eu///NONSGML kigkonsult.se iCalcreator 2.10.15//
METHOD:PUBLISH
BEGIN:VEVENT
UID:20260419T180411CEST-2997gmuZpZ@http://bomi40.eu/
DTSTAMP:20260419T160411Z
DESCRIPTION:Im nächsten DIH West (Online) Forum werden aktuelle Trends und 
 Entwicklungen im Bereich Security beleuchtet und diskutiert welche Möglich
 keiten an Sicherheitsmaßnahmen sowie Überwachungs-\, Erkennungs- und Schut
 zmaßnahmen Unternehmen zur Verfügung stehen. Es erwarten Sie kurze spannen
 de Inputs von Experten sowie zu konkreten Anwendungsfällen in Unternehmen.
  Anschließend besteht die Möglichkeit\, Fragen zu stellen und sich vor Ort
  oder im virtuellen Raum zu vernetzen.\nAblauf:- Begrüßung - Keynotes (á 1
 5 Minuten) - Moderierte Diskussion - Networking & Ausklang\nVortragende:- 
 Helmut Leopold\, Head of Center for Digital Safety & Security\, AIT (Austr
 ian Institute of Technology) - Armin Simma\, IT-Sicherheit\, FH Vorarlberg
  - Bettina Thurnher\, Information Security Manager (CISO)\, Gebrüder Weiss
  GesmbH - Alfred Olschnögger\, Director IT Service\, Zumtobel Group\nZielg
 ruppe:Die Veranstaltung richtet sich an Interessierte aus Unternehmen\, Ho
 chschulen und Forschungseinrichtungen.\nVeranstaltungsort: Arena Postgarag
 e in Dornbirn oder online\nEine Anmeldung ist bis zum 22. September 2021 m
 öglich.\nWeitere Informationen zur Veranstaltung finden Sie hier... http:/
 /bomi40.eu/de/service-kompetenz/veranstaltungen/ort/event/2337-dih-west-fo
 rum-cyber-and-information-security
DTSTART:20210923T140000Z
DTEND:20210923T153000Z
LOCATION: Online an Ihrem PC oder Laptop ()
SUMMARY:DIH West Forum | Cyber and Information Security
URL:http://bomi40.eu/de/service-kompetenz/veranstaltungen/ort/event/2337-di
 h-west-forum-cyber-and-information-security
END:VEVENT
END:VCALENDAR
