BEGIN:VCALENDAR
VERSION:2.0
PRODID:-//http://bomi40.eu///NONSGML kigkonsult.se iCalcreator 2.10.15//
METHOD:PUBLISH
BEGIN:VEVENT
UID:20260419T194409CEST-8960WHkRxG@http://bomi40.eu/
DTSTAMP:20260419T174409Z
DESCRIPTION:Grenzüberschreitender Verkehr der Zukunft - Perspektiven des DA
 CH-Raumes\nMit dem übergeordneten Ziel\, sich zu gemeinsamen Verkehrstheme
 n auszutauschen\, laden die verkehrswissenschaftlichen Gesellschaften aus 
 Deutschland\, Österreich und der Schweiz zum zweiten internationalen DACH-
 Verkehrskongress ein. Gemeinsam mit ExpertInnen wirft das internationale V
 eranstalterteam einen Blick in die Zukunft des Verkehrs der deutschsprachi
 gen Regionen.\nDie Leitfrage - Wie wird der grenzüberschreitende Verkehr s
 ich in den kommenden 50 Jahren weiterentwickeln? - wird das Programm der V
 eranstaltung maßgeblich prägen. Werden wir internationaler werden? Wie hel
 fen uns Digitalisierung und Dematerialisierung? Wie können wir offene Syst
 eme sicher gestalten\, sodass sie langfristig die nötige gesellschaftliche
  Akzeptanz erfahren?\nWissenschaftler*innen aller Generationen werden Pers
 pektiven geben\, die über den alltäglichen Horizont hinausgehen.\nBei Früh
 anreise am 30. September ab 9 Uhr erwartet Sie ein ganz besonderes Program
 m. Freuen Sie sich auf ein Werkstattgespräch zur langfristigen Verkehrspla
 nung in der internationalen Bodenseeregion mit Dr. Roland Scherer von der 
 Universität St.Gallen. Anschließend laden wir Sie ein\, vor den Pforten de
 r Zeppelin Universität bei der Enthüllung des Shuttle Brandings im Projekt
  RABus durch Winfried Hermann\, Minister für Verkehr des Landes Baden-Würt
 temberg dabei zu sein.\nRegistrierung zur Präsenzteilnahme\nRegistrierung 
 zur Online-Teilnahme\nWeitere Informationen zur Veranstaltung finden Sie h
 ier... http://bomi40.eu/de/service-kompetenz/veranstaltungen/ort/event/234
 6-2-dach-kongress-verkehr-und-mobilitaet
DTSTART;VALUE=DATE:20210930
LOCATION:Zeppelin Universität  I  ZF Campus  I  Fallenbrunnen 3  I  88045 F
 riedrichshafen (Fallenbrunnen 4\, 88045 Friedrichshafen\, Deutschland)
SUMMARY:2. DACH-Kongress Verkehr und Mobilität
URL:http://bomi40.eu/de/service-kompetenz/veranstaltungen/ort/event/2346-2-
 dach-kongress-verkehr-und-mobilitaet
END:VEVENT
END:VCALENDAR
