BEGIN:VCALENDAR
VERSION:2.0
PRODID:-//http://bomi40.eu///NONSGML kigkonsult.se iCalcreator 2.10.15//
METHOD:PUBLISH
BEGIN:VEVENT
UID:20260419T192359CEST-35996EW3kk@http://bomi40.eu/
DTSTAMP:20260419T172359Z
DESCRIPTION:#zukunftsmacher des InnovationsForums Südwest trifft Innovation
 stagung der Randenkomission\nErstmals führen das InnovationsForum Südwest 
 und die Randenkommisson ihre jährliche Highlightveranstaltung gemeinsam du
 rch. Mit gleich vier hochkarätigen Referent*innen aus den Bereichen KI\, S
 mart City\, Innovationshub und Global Startup hören und diskutieren die Ve
 ranstalter*innen\, wie sich Innovationen realisieren lassen - sei es durch
  Kooperation\, durch pfiffige Ideen oder durch neueste Technologien.\nDie 
 Impulsvorträge:- Christina Groll\, Leitung farm\, Technologiezentrum Konst
 anz | „Das Konstanzer Innovationsareal – von der Industriebrache zu(r) far
 m“ - Andreas Eschbach\, Gründer und CEO eschbach GmbH | „Vom Ein-Personen-
 startup zum global agierenden Software-Unternehmen“ - Prof. Herbert Schust
 er\, Unternehmer und Keynote-Speaker | „KI als innovativer Wettbewerbsvort
 eil“ - Andreas Kaiser\, Senior Project Manager Innovation & Smart Technolo
 gy\, Generis AG | „Herausforderungen auf dem Weg zur autonomen Mobilität“
 \nEine Anmeldung ist bis zum bis zum 30. September 2021 möglich.\nWeitere 
 Informationen zur Veranstaltung finden Sie hier... http://bomi40.eu/de/ser
 vice-kompetenz/veranstaltungen/ort/event/2363-zukunftsmacher-wege-zur-inno
 vation
DTSTART:20211007T130000Z
DTEND:20211007T153000Z
LOCATION: Online an Ihrem PC oder Laptop ()
SUMMARY:#zukunftsmacher - Wege zur Innovation
URL:http://bomi40.eu/de/service-kompetenz/veranstaltungen/ort/event/2363-zu
 kunftsmacher-wege-zur-innovation
END:VEVENT
END:VCALENDAR
