BEGIN:VCALENDAR
VERSION:2.0
PRODID:-//http://bomi40.eu///NONSGML kigkonsult.se iCalcreator 2.10.15//
METHOD:PUBLISH
BEGIN:VEVENT
UID:20260419T204101CEST-261963L9VC@http://bomi40.eu/
DTSTAMP:20260419T184101Z
DESCRIPTION:Erfahren Sie während 90 Minuten wie Sie Ihr Einzelunternehmen\,
  Ihre GmbH\, AG oder Kollektivgesellschaft mit EasyGov gründen.\nMartin Eg
 ger von EasyGov.swiss stellt Ihnen den neuen Online-Schalter des Bundes vo
 r und zeigt Ihnen anhand eines Beispielunternehmens\, wie Sie damit ganz e
 infach Ihre Gründungsunterlagen erstellen.\nLernziele:- Sie kennen EasyGov
  und wissen\, wofür Sie es einsetzen können. - Sie kennen den Gründungspro
 zess von EasyGov und sind fähig\, Ihre Gründungsunterlagen online zu erste
 llen.\nDie Teilnahme ist kostenlos.\nAnmeldung\nWeitere Informationen zur 
 Veranstaltung finden Sie hier... http://bomi40.eu/de/service-kompetenz/ver
 anstaltungen/ort/event/2365-easygov-online-gruenden
DTSTART:20211021T150000Z
DTEND:20211021T163000Z
LOCATION: Online an Ihrem PC oder Laptop ()
SUMMARY:EasyGov: Online Gründen 
URL:http://bomi40.eu/de/service-kompetenz/veranstaltungen/ort/event/2365-ea
 sygov-online-gruenden
END:VEVENT
END:VCALENDAR
