BEGIN:VCALENDAR
VERSION:2.0
PRODID:-//http://bomi40.eu///NONSGML kigkonsult.se iCalcreator 2.10.15//
METHOD:PUBLISH
BEGIN:VEVENT
UID:20260419T190941CEST-1110Okp6RF@http://bomi40.eu/
DTSTAMP:20260419T170941Z
DESCRIPTION:Sie haben ein Start-up im Bereich Hightech\, IT oder Kreativwir
 tschaft gegründet? Sie planen eine Gründung oder Geschäftsfelderweiterung?
  bwcon unterstützt Sie bei der Verwirklichung Ihres Vorhabens!\nProgramm:I
 n dem kostenfreien Venture Development Workshop werden folgende Inhalte be
 handelt:\nGrundlagen der Geschäftsplanung – worauf ist hierbei zu achten? 
 Wie sieht ein guter Businessplan aus? Wir geben Ihnen einen Leitfaden an d
 ie Hand\, der Checklisten und die wichtigsten Überlegungen für Venture Dev
 elopment Projekte enthält. Damit gelangen Sie systematisch von der Idee üb
 er das Konzept bis hin zum Plan. Darstellung der Investorensicht auf Gesch
 äftskonzepte Aufzeigen von Förderprogrammen und Finanzierungsinstrumenten
 \nErgänzend dazu können Sie ein individuelles Evaluierungsgespräch mit uns
  vereinbaren. In diesem Einzeltermin erhalten Sie eine erste Einschätzung 
 zu Ihrem Vorhaben sowie weitere Informationen zu den passenden Unterstützu
 ngsmöglichkeiten.\nZielgruppe:- Gründer - Gründungsinteressierte - Innovat
 ive Teams aus etablierten Unternehmen\, die eine neues Geschäftsfeld entwi
 ckeln\nWeitere Informationen zur Veranstaltung finden Sie hier... http://b
 omi40.eu/de/service-kompetenz/veranstaltungen/ort/event/2377-venture-devel
 opment-workshop
DTSTART:20211028T070000Z
DTEND:20211028T100000Z
LOCATION:bwcon stuttgart (Seyfferstraße 34\, 70197 Stuttgart\, Deutschland)
SUMMARY:Venture Development Workshop
URL:http://bomi40.eu/de/service-kompetenz/veranstaltungen/ort/event/2377-ve
 nture-development-workshop
END:VEVENT
END:VCALENDAR
