BEGIN:VCALENDAR
VERSION:2.0
PRODID:-//http://bomi40.eu///NONSGML kigkonsult.se iCalcreator 2.10.15//
METHOD:PUBLISH
BEGIN:VEVENT
UID:20260419T192926CEST-9798eUXBcI@http://bomi40.eu/
DTSTAMP:20260419T172926Z
DESCRIPTION:Vorreiter Liechtenstein - Eine elektronische Identifikation und
  eine Zustellplattform für das ganze Land\nIn Liechtenstein können natürli
 ch Personen seit April 2020 die elektronische Identität (eID) nutzen. Die 
 App-Lösung schafft eine sichere und benutzerfreundliche Identifizierung be
 i elektronischen Geschäftsvorgängen mit der Liechtensteinischen Landesverw
 altung. Besonderen Auftrieb erhielt die eID durch die Anwendung des digita
 len Covid-Zertifikats.\nDieser Workshop zeigt die aktuellen und künftigen 
 Anwendungsfälle wie den elektronischen Ausweis oder den elektronischen Füh
 rerschein auf und erklärt\, wie auch private Anbieter die eID für die sich
 ere Kundenidentifikation nutzen können. So nutzt die Liechtensteinische Po
 st AG für ihren elektronischen Zustelldienst «ePostPlus» die eID als siche
 ren Login. Über diese Web-Plattform können Private und Firmen bereits heut
 e behördliche Sendungen sicher auf dem elektronischen Weg empfangen.\nAb 2
 023 wird dann die Nutzung von «ePostPlus» für juristische Personen Pflicht
 \, wenn die Kommunikation mit den Behörden von Gesetzes wegen elektronisch
  über diese Plattform erfolgen muss. Die Liechtensteinische Post AG gibt d
 abei auch einen Einblick\, wie «ePostPlus» auch für Firmen zur sicheren el
 ektronischen Kommunikation mit Kunden und Mitarbeitenden genutzt werden ka
 nn.\nReferenten:Sylvan Fux\, Leiter Business Consulting Digitalisierung Am
 t für InformatikWolfgang Strunk\, Geschäftsleitungsmitglied Liechtensteini
 sche Post AG\nWeitere Informationen zur Veranstaltung finden Sie hier... h
 ttp://bomi40.eu/de/service-kompetenz/veranstaltungen/ort/event/2386-worksh
 op-vorreiter-liechtenstein
DTSTART:20211028T140000Z
DTEND:20211028T160000Z
LOCATION:Technopark Liechtenstein\, - Vaduz\, LI (Schaanerstrasse 27\, 9490
  Vaduz\, Liechtenstein)
SUMMARY:Workshop: Vorreiter Liechtenstein
URL:http://bomi40.eu/de/service-kompetenz/veranstaltungen/ort/event/2386-wo
 rkshop-vorreiter-liechtenstein
END:VEVENT
END:VCALENDAR
