BEGIN:VCALENDAR
VERSION:2.0
PRODID:-//http://bomi40.eu///NONSGML kigkonsult.se iCalcreator 2.10.15//
METHOD:PUBLISH
BEGIN:VEVENT
UID:20260419T180412CEST-0634H31UVn@http://bomi40.eu/
DTSTAMP:20260419T160412Z
DESCRIPTION:Im nächsten DIH West (Online) Forum werden aktuelle Trends und 
 Entwicklungen im Bereich Cloud Manufacturing diskutiert. Es erwarten Sie k
 urze spannende Inputs von Experten zu konkreten Anwendungsfällen in Untern
 ehmen sowie eine moderierte Podiumsdiskussion. Anschließend besteht die Mö
 glichkeit\, Fragen zu stellen und sich vor Ort zu vernetzen.\nProgramm:16:
 00 Uhr: Begrüßung16:05 Uhr: Keynotes16:55 Uhr: Podiumsdiskussion17:15 Uhr:
 Networking & AusklangGemeinsamer Ausklang & Imbiss\nVortragende:Robert Mer
 z\, Digital Factory Vorarlberg GmbH Ralph Hoch\, Digital Factory Vorarlber
 g GmbH Thomas Lorünser\, Austrian Institute of Technology Linus Grabher\, 
 Kreatize Martin Ohneberg\, Henn Gruppe & Präsident Industriellenvereinigun
 g Vorarlberg\nZielgruppe:Interessierte aus Unternehmen\, Hochschulen und F
 orschungseinrichtungen.\nDie Veranstaltung kann man hybrid besuchen.\nEine
  Anmeldung bis 17. November 2021 ist erforderlich. Die Veranstaltung ist k
 ostenfrei.\nWeitere Informationen zur Veranstaltung und zur Anmeldung find
 en Sie hier...\n&nbsp\; http://bomi40.eu/de/service-kompetenz/veranstaltun
 gen/ort/event/2392-dih-west-forum-cloud-manufacturing
DTSTART:20211117T150000Z
DTEND:20211117T161500Z
LOCATION:Postgarage Arena CAMPUS V\, Hintere Achmühlerstraße 1b 6850 Dornbi
 rn (Hintere Achmühlerstraße 1b\, 6850 Dornbirn\, Österreich)
SUMMARY:DIH WEST FORUM: „Cloud Manufacturing“
URL:http://bomi40.eu/de/service-kompetenz/veranstaltungen/ort/event/2392-di
 h-west-forum-cloud-manufacturing
END:VEVENT
END:VCALENDAR
