BEGIN:VCALENDAR
VERSION:2.0
PRODID:-//http://bomi40.eu///NONSGML kigkonsult.se iCalcreator 2.10.15//
METHOD:PUBLISH
BEGIN:VEVENT
UID:20260419T203410CEST-7576WeRErS@http://bomi40.eu/
DTSTAMP:20260419T183410Z
DESCRIPTION:Die Innovationskraft entscheidet darüber\, ob sich ein Unterneh
 men auch in Zukunft mit seinen Produkten und Dienstleistungen erfolgreich 
 im internationalen Wettbewerb positionieren kann. Mit der Webinar-Reihe mö
 chten die Veranstalter*innen Ihnen Impulse für Ihr Innovationsengagement b
 ieten.\nDie Veranstalter*innen laden Sie dazu ein\, Ihr Wissen zu relevant
 en Innovationsthemen zu erweitern\, neue Perspektiven zu entwickeln und im
  Austausch mit anderen die eigene Sicht zu schärfen. Dafür setzen die Vera
 nstalter*innen auf einen Mix von inspirierenden Erkenntnissen aus Theorie 
 und Methodik\, angereichert mit Erfolgsgeschichten aus der Praxis.\nDas An
 gebot richtet sich an Eigentümer*innen\, Geschäftsführer*innen\, Innovatio
 nsverantwortliche\, F&E-Leiter*innen und Innovationsprojektleiter*innen vo
 n KMU der MEM-Industrie\, welche neue Ansätze kennenlernen möchten\, um di
 e Innovationsfähigkeit ihres Unternehmens zu stärken.\nZielgruppe: Geschäf
 tsführer und Innovationsverantwortliche aus Swissmem-Mitgliedfirmen\nTeiln
 ehmerzahl: max. 30 Teilnehmende\nKosten: Exklusives Angbot für Swissmem-Mi
 tgliedfirmen. Die Teilnahme ist kostenlos.\nWeitere Informationen zur Vera
 nstaltung befinden sich hier... http://bomi40.eu/de/service-kompetenz/vera
 nstaltungen/ort/event/2399-webinarreihe-im-rahmen-von-innovate-swissmem
DTSTART:20211104T150000Z
DTEND:20211104T163000Z
LOCATION: Online an Ihrem PC oder Laptop ()
SUMMARY:Webinarreihe im Rahmen von innovate@swissmem
URL:http://bomi40.eu/de/service-kompetenz/veranstaltungen/ort/event/2399-we
 binarreihe-im-rahmen-von-innovate-swissmem
END:VEVENT
END:VCALENDAR
