BEGIN:VCALENDAR
VERSION:2.0
PRODID:-//http://bomi40.eu///NONSGML kigkonsult.se iCalcreator 2.10.15//
METHOD:PUBLISH
BEGIN:VEVENT
UID:20260419T192823CEST-9319Nthztn@http://bomi40.eu/
DTSTAMP:20260419T172823Z
DESCRIPTION:Mit dem digitalen Wandel werden bei grenzüberschreitenden indus
 triellen Wertschöpfungsketten auch immer Daten ausgetauscht. Bislang gebe 
 es kaum einheitliche Standards und Datenformate\, die in Cloud-Technologie
  verarbeitet werden können. Ziel von GAIA-X ist es daher\, verbindliche St
 andards und Schnittstellen voranzubringen. GAIA-X ist nicht eine Cloud wie
  Amazon Web Services\, Azure oder die Google Cloud Platform (GCP). Vielmeh
 r handelt es sich um einen neuen Standard für eine Cloud-Infrastruktur. Di
 eser neue entstehende Standard berücksichtigt europäische Datenschutzanfor
 derungen\, Transparenz und Kompatibilität von Beginn an.\nMit der GAIA-X V
 eranstaltung der Special Interest Group des bwcon e.V. präsentieren und di
 skutieren Experten aus Forschung\, der Wirtschaft und Praktikern die neust
 en Informationen und Trends zum Thema GAIA-X und den Stand der Standardisi
 erungsaktivitäten.\nProgramm:15:00-15:05 Begrüßung15:05-15:25 1.Vortrag/Ke
 ynote – “GAIA-X and interoperable Data Spaces”. Ulrich Ahle\, Chief Execut
 ive Officer FIWARE Foundation15:25-15:45 2. Vortrag „GAIA-X – und ISDA Dat
 aSpaces Framework: Architektur und Prinzipien“ Status\, Aktuelles und Ausb
 lick. Olaf-Gerd Gemein\, Founder SmartCity Lab15:45-16:00 Pause16:00-16:45
  3 Vorträge/Praxisbeispiele: Drei Projekte aus dem Mittelstand präsentiere
 n ihren Arbeitsstand. 3 verschiedene Referenten aus verschiedenen Branchen
  (TBC)16:45-17:00 offene Paneldiskussion & sonstiges der SIG Cloud – Olaf-
 Gerd Gemein\, drei Referenten aus der Praxis. Prof. Dr. Heinzl/Moderation
 \nWeitere Informationen zur Veranstaltung finden Sie hier... http://bomi40
 .eu/de/service-kompetenz/veranstaltungen/ort/event/2402-gaia-x-cloud-und-d
 ata-spaces
DTSTART:20211125T140000Z
DTEND:20211125T160000Z
LOCATION: Online an Ihrem PC oder Laptop ()
SUMMARY:GAIA-X\, Cloud und Data Spaces
URL:http://bomi40.eu/de/service-kompetenz/veranstaltungen/ort/event/2402-ga
 ia-x-cloud-und-data-spaces
END:VEVENT
END:VCALENDAR
