BEGIN:VCALENDAR
VERSION:2.0
PRODID:-//http://bomi40.eu///NONSGML kigkonsult.se iCalcreator 2.10.15//
METHOD:PUBLISH
BEGIN:VEVENT
UID:20260419T190941CEST-4065au0E6l@http://bomi40.eu/
DTSTAMP:20260419T170941Z
DESCRIPTION:Eine gute Zukunft im Blick stehen Unternehmen vor der Frage: wi
 e nachhaltig digitalen Wandel initiieren und wo anfangen\, wenn der Weg ni
 cht planbar ist? Liegt der Schlüssel für die Zukunft des Mittelstands in d
 er Nutzung digitaler Daten - oder sind Haltung und Mindset Startpunkt für 
 diesen Veränderungsprozess?\nDie Veranstalter*innen betrachten die Wege de
 r Daten im Unternehmen und wie unterschiedliche nachhaltige Anwendungsszen
 arien möglich werden – mit konkreten Praxisbeispielen und Nutzen für Ihr U
 nternehmen. \nFragen:Werden Daten allein die Art und Weise\, wie wir wirts
 chaften\, revolutionieren können? Welches Mindset benötigen verantwortungs
 volle Unternehmer*innen\, um die Transformation nachhaltig und digital zu 
 gestalten? Woher kommt der Wandel\, wenn nicht von uns?\nAnmeldung\nProgra
 mm\nWeitere Informationen zur Veranstaltung finden Sie hier... http://bomi
 40.eu/de/service-kompetenz/veranstaltungen/ort/event/2403-zukunft-mittelst
 and-daten-oder-mindset
DTSTART:20211115T123000Z
DTEND:20211115T170000Z
LOCATION: Online an Ihrem PC oder Laptop ()
SUMMARY:Zukunft Mittelstand - Daten oder Mindset?
URL:http://bomi40.eu/de/service-kompetenz/veranstaltungen/ort/event/2403-zu
 kunft-mittelstand-daten-oder-mindset
END:VEVENT
END:VCALENDAR
