BEGIN:VCALENDAR
VERSION:2.0
PRODID:-//http://bomi40.eu///NONSGML kigkonsult.se iCalcreator 2.10.15//
METHOD:PUBLISH
BEGIN:VEVENT
UID:20260419T180342CEST-1674fbe42e@http://bomi40.eu/
DTSTAMP:20260419T160342Z
DESCRIPTION:Eine gute Zukunft im Blick stehen Unternehmen vor der Frage: wi
 e nachhaltig digitalen Wandel initiieren und wo anfangen\, wenn der Weg ni
 cht planbar ist? Liegt der Schlüssel für die Zukunft des Mittelstands in d
 er Nutzung digitaler Daten - oder sind Haltung und Mindset Startpunkt für 
 diesen Veränderungsprozess?\nDie Veranstalter*innen betrachten die Wege de
 r Daten im Unternehmen und wie unterschiedliche nachhaltige Anwendungsszen
 arien möglich werden – mit konkreten Praxisbeispielen und Nutzen für Ihr U
 nternehmen.\nFragen:Werden Daten allein die Art und Weise\, wie wir wirtsc
 haften\, revolutionieren können? Welches Mindset benötigen verantwortungsv
 olle Unternehmer*innen\, um die Transformation nachhaltig und digital zu g
 estalten? Woher kommt der Wandel\, wenn nicht von uns?\nAnmeldung\nProgram
 m\nWeitere Informationen zur Veranstaltung finden Sie hier... http://bomi4
 0.eu/de/service-kompetenz/veranstaltungen/ort/event/2404-zukunft-mittelsta
 nd-daten-oder-mindset
DTSTART:20211116T080000Z
DTEND:20211116T113000Z
LOCATION: Online an Ihrem PC oder Laptop ()
SUMMARY:Zukunft Mittelstand - Daten oder Mindset?
URL:http://bomi40.eu/de/service-kompetenz/veranstaltungen/ort/event/2404-zu
 kunft-mittelstand-daten-oder-mindset
END:VEVENT
END:VCALENDAR
