BEGIN:VCALENDAR
VERSION:2.0
PRODID:-//http://bomi40.eu///NONSGML kigkonsult.se iCalcreator 2.10.15//
METHOD:PUBLISH
BEGIN:VEVENT
UID:20260419T191358CEST-5411dI7GV5@http://bomi40.eu/
DTSTAMP:20260419T171358Z
DESCRIPTION:Social Entrepreneurship als Unternehmensmodell gewinnt zunehmen
 d an Aufmerksamkeit\, nicht zuletzt angesichts der großen gesellschaftlich
 en Herausforderungen. Ein starker „social purpose“ ist ohnehin längst für 
 viele Unternehmen ein wichtiger Faktor\, um wettbewerbsfähig zu bleiben. A
 ber auch Investoren suchen vermehrt Unternehmen\, die mit ihrer Geschäftsi
 dee nicht in erster Linie eine Gewinnmaximierung anstreben\, sondern die L
 ösung eines gesellschaftlichen Problems.\nDoch worauf kommt es an\, wenn m
 an ein Unternehmen mit sozialem Mehrwert gründen möchte? Wie lassen sich e
 rfolgreiches Unternehmertum und soziale Verantwortung verbinden? Und warum
  braucht es oft mehr als nur Geld\, um die gewünschte Veränderung herbeizu
 führen? Diese und weitere Fragen werden bei „How to start up a social ente
 rprise“ beantwortet.\nAnmeldung\nDie Veranstaltung ist kostenlos\, eine An
 meldung ist erforderlich.\nWeitere Informationen zur Veranstaltung befinde
 n sich hier... http://bomi40.eu/de/service-kompetenz/veranstaltungen/ort/e
 vent/2406-how-to-start-up-a-social-enterprise
DTSTART:20211115T090000Z
DTEND:20211115T100000Z
LOCATION: Online an Ihrem PC oder Laptop ()
SUMMARY:How to start up a social enterprise?
URL:http://bomi40.eu/de/service-kompetenz/veranstaltungen/ort/event/2406-ho
 w-to-start-up-a-social-enterprise
END:VEVENT
END:VCALENDAR
