BEGIN:VCALENDAR
VERSION:2.0
PRODID:-//http://bomi40.eu///NONSGML kigkonsult.se iCalcreator 2.10.15//
METHOD:PUBLISH
BEGIN:VEVENT
UID:20260419T192946CEST-56444EK2rD@http://bomi40.eu/
DTSTAMP:20260419T172946Z
DESCRIPTION:Dieser Workshop richtet sich an Fach- und Führungskräfte kleine
 r und mittlerer Unternehmen\, darüber hinaus an Interessierte Einsteiger*i
 nnen im Themenfeld Künstliche Intelligenz. Es wird Basiswissen zu KI-Techn
 ologien und Anwendungsgebieten vermittelt und eine Vernetzung der Teilnehm
 er angestrebt.\nGemeinsam werden wir mögliche Anwendungsfälle für KI in Ih
 rem Unternehmen identifizieren und die Schritte zu einer gelungenen Umsetz
 ung erarbeiten. Zusätzlich werden praxisnahe Überlegungen zur Geschäftsmod
 ellentwicklung und Fragestellungen aus der Ethik thematisiert. Unterstützt
  wird das Ganze durch reale Praxisbeispiele und interaktive Elemente.\nRef
 erent*in: Philipp Göbels & Simone Martinetz\nAnmeldung\nWeitere Informatio
 nen zur Veranstaltung finden Sie hier... http://bomi40.eu/de/service-kompe
 tenz/veranstaltungen/ort/event/2411-workshop-reihe-kuenstliche-intelligenz
 -digitale-servicetransformation
DTSTART:20211123T140000Z
DTEND:20211123T160000Z
LOCATION: Online an Ihrem PC oder Laptop ()
SUMMARY:Workshop-Reihe Künstliche Intelligenz - Digitale Servicetransformat
 ion
URL:http://bomi40.eu/de/service-kompetenz/veranstaltungen/ort/event/2411-wo
 rkshop-reihe-kuenstliche-intelligenz-digitale-servicetransformation
END:VEVENT
END:VCALENDAR
