BEGIN:VCALENDAR
VERSION:2.0
PRODID:-//http://bomi40.eu///NONSGML kigkonsult.se iCalcreator 2.10.15//
METHOD:PUBLISH
BEGIN:VEVENT
UID:20260419T191004CEST-3878Cwxu5u@http://bomi40.eu/
DTSTAMP:20260419T171004Z
DESCRIPTION:Der Transnational Hackathon on Mobility findet am 1. und 2. Dez
 ember 2021 online statt.\nDas Thema 'Mobilität' ist omnipräsent und spielt
  eine entscheidende Rolle im Klimawandel. Innovative Ideen und Ansätze sin
 d gefragt\, um die Mobilität in den Alpenregionen voranzubringen und effiz
 ienter\, einfacher und umweltfreundlicher zu gestalten.Studierende und Aka
 demiker*innen\, kleine und mittlere Unternehmen\, Politiker*innen\, Verwal
 tungsmitarbeiter*innen und alle\, die sich für das Thema Mobilität interes
 sieren\, sind herzlich eingeladen\, mitzumachen. Nehmen Sie an der Online-
 Veranstaltung teil\, um an zukünftigen Mobilitätsprojekten zu arbeiten und
  so das urbane Gemeinwohl zu fördern.\nProgramm:18.00: Welcome and introdu
 ction18.15: Presentation of challenges by mentors18.30: Assignment to chal
 lenges19.30: Questions and Answers\nAnmeldung\nWeitere Informationen zur V
 eranstaltung finden Sie hier... http://bomi40.eu/de/service-kompetenz/vera
 nstaltungen/ort/event/2412-transnational-hackathon-on-mobility
DTSTART:20211201T170000Z
DTEND:20211201T190000Z
LOCATION: Online an Ihrem PC oder Laptop ()
SUMMARY:Transnational Hackathon on Mobility
URL:http://bomi40.eu/de/service-kompetenz/veranstaltungen/ort/event/2412-tr
 ansnational-hackathon-on-mobility
END:VEVENT
END:VCALENDAR
