BEGIN:VCALENDAR
VERSION:2.0
PRODID:-//http://bomi40.eu///NONSGML kigkonsult.se iCalcreator 2.10.15//
METHOD:PUBLISH
BEGIN:VEVENT
UID:20260419T191004CEST-3024RulLT0@http://bomi40.eu/
DTSTAMP:20260419T171004Z
DESCRIPTION:Der Transnational Hackathon on Mobility findet am 1. und 2. Dez
 ember 2021 online statt.\nDas Thema 'Mobilität' ist omnipräsent und spielt
  eine entscheidende Rolle im Klimawandel. Innovative Ideen und Ansätze sin
 d gefragt\, um die Mobilität in den Alpenregionen voranzubringen und effiz
 ienter\, einfacher und umweltfreundlicher zu gestalten.Studierende und Aka
 demiker*innen\, kleine und mittlere Unternehmen\, Politiker*innen\, Verwal
 tungsmitarbeiter*innen und alle\, die sich für das Thema Mobilität interes
 sieren\, sind herzlich eingeladen\, mitzumachen. Nehmen Sie an der Online-
 Veranstaltung teil\, um an zukünftigen Mobilitätsprojekten zu arbeiten und
  so das urbane Gemeinwohl zu fördern.\nProgramm:09.00: Welcome09.30: Hacki
 ng17.00: Presentation of results18.00: Recap and Good-bye\nAnmeldung\nWeit
 ere Informationen zur Veranstaltung finden Sie hier... http://bomi40.eu/de
 /service-kompetenz/veranstaltungen/ort/event/2413-transnational-hackathon-
 on-mobility
DTSTART:20211201T080000Z
DTEND:20211201T170000Z
LOCATION: Online an Ihrem PC oder Laptop ()
SUMMARY:Transnational Hackathon on Mobility
URL:http://bomi40.eu/de/service-kompetenz/veranstaltungen/ort/event/2413-tr
 ansnational-hackathon-on-mobility
END:VEVENT
END:VCALENDAR
