BEGIN:VCALENDAR
VERSION:2.0
PRODID:-//http://bomi40.eu///NONSGML kigkonsult.se iCalcreator 2.10.15//
METHOD:PUBLISH
BEGIN:VEVENT
UID:20260419T192135CEST-1315sRXsEB@http://bomi40.eu/
DTSTAMP:20260419T172135Z
DESCRIPTION:Die Special Interest Group Künstliche Intelligenz (SIG KI) wird
  das Jahr 2021 mit zwei Impulsvorträgen und einer Diskussion mit der IBM a
 bschließen. Wir beginnen um 17 Uhr mit einer Eröffnung durch die SIG KI un
 d stellen den KI Xpress und die KI Garage der Baden-Württemberg Stiftung v
 or.\nProgramm:17:00 Uhr Begrüßung der Teilnehmer17:15 Uhr Künstliche Intel
 ligenz und Start-Ups im Gesundheitswesen – wo der Schuh drückt17:45 Uhr Vo
 rstellung AI Xpress Böblingen18:05 Uhr Vorstellung der KI-Garage der Baden
 -Württemberg Stiftung18:15 Uhr Technologie und Psychologie – Wie psycholog
 ische Hilfe im Alltag etabliert werden kann18:30 Uhr IBM Project Debater19
 :30 Uhr Networking\nTickets\nWeitere Informationen zur Veranstaltung finde
 n Sie hier... http://bomi40.eu/de/service-kompetenz/veranstaltungen/ort/ev
 ent/2414-special-interest-group-kuenstliche-intelligenz-sig-ki-abschlussve
 ranstaltung-2021
DTSTART:20211125T160000Z
DTEND:20211125T190000Z
LOCATION:Röhrer Weg 8 Böblingen Baden-Württemberg  71032 Deutschland  (Röhr
 er Weg 8\, 71032 Böblingen\, Deutschland)
SUMMARY:Special Interest Group Künstliche Intelligenz (SIG KI): Abschlussve
 ranstaltung 2021
URL:http://bomi40.eu/de/service-kompetenz/veranstaltungen/ort/event/2414-sp
 ecial-interest-group-kuenstliche-intelligenz-sig-ki-abschlussveranstaltung
 -2021
END:VEVENT
END:VCALENDAR
