BEGIN:VCALENDAR
VERSION:2.0
PRODID:-//http://bomi40.eu///NONSGML kigkonsult.se iCalcreator 2.10.15//
METHOD:PUBLISH
BEGIN:VEVENT
UID:20260419T192926CEST-7919R9G1Uk@http://bomi40.eu/
DTSTAMP:20260419T172926Z
DESCRIPTION:An diesem Workshop diskutieren Vertreter*innen der Liechtenstei
 nischen Kraftwerke (LKW) und des Vereins Rheintal IX über den Status des I
 nternets in Liechtenstein. Zum einen soll Liechtenstein bis Ende 2022 eine
 s der ersten Länder der Welt mit flächendeckendem Glasfasernetz sein und a
 nderseits soll überregional ein flächendeckender Ringschluss rund um den B
 odensee erreicht werden.\nZiel ist es\, dass Liechtensteins Ende 2022 eine
 s der ersten Länder der Welt mit flächendeckendem Glasfasernetz sein wird.
  Eine besondere Rolle im grenzüberschreitenden Datenverkehr spielen sogena
 nnte Internetknoten. Sie dienen dem Austausch von Daten zwischen Internetp
 rovidern oder grösseren Unternehmensnetzwerken. Zu diesem Zweck betreibt d
 er Verein Rheintal IX einen Internetknoten in der Rheintal- und Bodensee-R
 egion und ist aktuell an fünf Standorten in Liechtenstein\, Österreich\, D
 eutschland und der Schweiz präsent. Fast alle Internetprovider und grösser
 en Unternehmen in Liechtenstein nutzen die Infrastruktur des Vereins. Ziel
  des Rheintal IX ist es\, einen flächendeckenden Ringschluss rund um den B
 odensee zu erreichen\, um eine grössere Ausfallsicherheit des Internets ge
 währleisten zu können.\nReferenten:Gerald Marxer\, Vorsitzender der Geschä
 ftsleitung Liechtensteinische Kraftwerke Thomas Fritz\, Präsident Verein R
 heintal IX Dominic Schallert\, Vorstandsmitglied Verein Rheintal IX\nWeite
 re Informationen zur Veranstaltung und zur Anmeldung finden Sie hier... ht
 tp://bomi40.eu/de/service-kompetenz/veranstaltungen/ort/event/2415-worksho
 p-status-des-internets-in-liechtenstein
DTSTART:20211215T150000Z
DTEND:20211215T163000Z
LOCATION:Technopark Liechtenstein\, - Vaduz\, LI (Schaanerstrasse 27\, 9490
  Vaduz\, Liechtenstein)
SUMMARY: Workshop: Status des Internets in Liechtenstein
URL:http://bomi40.eu/de/service-kompetenz/veranstaltungen/ort/event/2415-wo
 rkshop-status-des-internets-in-liechtenstein
END:VEVENT
END:VCALENDAR
