BEGIN:VCALENDAR
VERSION:2.0
PRODID:-//http://bomi40.eu///NONSGML kigkonsult.se iCalcreator 2.10.15//
METHOD:PUBLISH
BEGIN:VEVENT
UID:20260419T192502CEST-8425BI6kCB@http://bomi40.eu/
DTSTAMP:20260419T172502Z
DESCRIPTION:Wie können vor allem kleine und mittlere Unternehmen die Chance
 n der Datenwirtschaft nutzen? Welche Herausforderungen in Bezug auf die Nu
 tzung der Daten gibt es und wie können diese überwunden werden?\nDiese Fra
 gen stehen im Mittelpunkt der Online-Veranstaltung 'Erfolgreicher mit Date
 n: Wirtschaftliche Potentiale der Datennutzung für baden-württembergische 
 Unternehmen' a\,m 14. Dezember.\nDie Veranstaltung:- gibt Ihnen einen Über
 blick über den Status Quo der Datennutzung in Europa und den Nutzen für KM
 U\,- gewährt spannende Einblicke in Best Practices von Firmen unterschiedl
 icher Größe und Branchenzugehörigkeiten\,- stellt Möglichkeiten vor\, wie 
 Sie durch Datenkooperationen Mehrwerte schaffen können und- zeigt Fördermö
 glichkeiten für Ihr Unternehmen in Baden-Württemberg\, Deutschland und Eur
 opa auf.\n​​​​​​​Dabei haben Sie die Möglichkeit\, Ihre Fragen einzubringe
 n und mit den Referentinnen und Referenten zu diskutieren.\nWir freuen uns
  auf Ihre Teilnahme!\nAnmeldung\nWeitere Informationen zur Veranstaltung u
 nd zur Anmeldung finden Sie hier... http://bomi40.eu/de/service-kompetenz/
 veranstaltungen/ort/event/2418-erfolgreicher-mit-daten-wirtschaftliche-pot
 entiale-der-datennutzung-fuer-baden-wuerttembergische-unternehmen
DTSTART:20211214T130000Z
DTEND:20211214T163000Z
LOCATION: Online an Ihrem PC oder Laptop ()
SUMMARY:Erfolgreicher mit Daten: Wirtschaftliche Potentiale der Datennutzun
 g für baden-württembergische Unternehmen
URL:http://bomi40.eu/de/service-kompetenz/veranstaltungen/ort/event/2418-er
 folgreicher-mit-daten-wirtschaftliche-potentiale-der-datennutzung-fuer-bad
 en-wuerttembergische-unternehmen
END:VEVENT
END:VCALENDAR
