BEGIN:VCALENDAR
VERSION:2.0
PRODID:-//http://bomi40.eu///NONSGML kigkonsult.se iCalcreator 2.10.15//
METHOD:PUBLISH
BEGIN:VEVENT
UID:20260419T191124CEST-0802DdNRO7@http://bomi40.eu/
DTSTAMP:20260419T171124Z
DESCRIPTION:Die Veranstaltungreihe Digitale Trends stellt aktuelle Trends u
 nd Projekte im Bereich der Digitalisierung vor. Sie richtet sich an Intere
 ssierte\, die tiefergehende Einblicke in digitale Technologien und Anwendu
 ngen erlangen möchten. Dabei werden aktuelle Themen aus dem Bereich Forsch
 ung und Entwicklung aufgefriffen und entweder von Forschungseinrichtungen 
 oder Praxispartnern vorgestellt.\nDas Thema am 09.12.2021 ist die digitale
  Layoutplanung und Materialflussanalyse für Fabriken\, Lagerhallen\, usw. 
 Prof. Dr.-Ing. Jürgen Köbler wird das Labor „Virtual Engineering“ der Hoch
 schule Offenburg vorstellen und Einblicke in die digitale Layout- und Mate
 rialflussplanung mit visTABLE® geben.\nAgenda:13:30: Begrüßung und kurze V
 orstellung des Projekts DIGIHUB Südbaden 13:35: Impulsvortrag: Digitale Vi
 sualisierungsmethoden mit „Virtual Engineering“ 14:00: Fragerunde & Diskus
 sion 14:15: Ende der Veranstaltung\nAnmeldung\nWeitere Informationen zur A
 nmeldung und zur Veranstaltung finden Sie hier... http://bomi40.eu/de/serv
 ice-kompetenz/veranstaltungen/ort/event/2419-digitale-trends-um-halb-zwei
DTSTART:20211209T123000Z
DTEND:20211209T131500Z
LOCATION: Online an Ihrem PC oder Laptop ()
SUMMARY:Digitale Trends um halb Zwei
URL:http://bomi40.eu/de/service-kompetenz/veranstaltungen/ort/event/2419-di
 gitale-trends-um-halb-zwei
END:VEVENT
END:VCALENDAR
