BEGIN:VCALENDAR
VERSION:2.0
PRODID:-//http://bomi40.eu///NONSGML kigkonsult.se iCalcreator 2.10.15//
METHOD:PUBLISH
BEGIN:VEVENT
UID:20260419T210220CEST-2301RJ7OrL@http://bomi40.eu/
DTSTAMP:20260419T190220Z
DESCRIPTION:Nutzen Sie Ihre Flächen für Photovoltaik! – Wie Unternehmen von
  der Solarstromerzeugung profitieren können.\nReferent: Franz Pöter\, Sola
 r Cluster Baden-Württemberg e.V.\nWeitere Informationen zur Veranstaltung 
 finden Sie hier... http://bomi40.eu/de/service-kompetenz/veranstaltungen/o
 rt/event/2423-kostenlose-online-inforeihe-kmu-schluessel-zum-meistern-der-
 klimakrise
DTSTART;VALUE=DATE:20220115
LOCATION: Online an Ihrem PC oder Laptop ()
SUMMARY:Kostenlose Online-Inforeihe 'KMU: Schlüssel zum Meistern der Klimak
 rise'
URL:http://bomi40.eu/de/service-kompetenz/veranstaltungen/ort/event/2423-ko
 stenlose-online-inforeihe-kmu-schluessel-zum-meistern-der-klimakrise
END:VEVENT
END:VCALENDAR
