BEGIN:VCALENDAR
VERSION:2.0
PRODID:-//http://bomi40.eu///NONSGML kigkonsult.se iCalcreator 2.10.15//
METHOD:PUBLISH
BEGIN:VEVENT
UID:20260419T180732CEST-5131ibvlVd@http://bomi40.eu/
DTSTAMP:20260419T160732Z
DESCRIPTION:Die F&E Konferenz bietet in einem kompakten Format eine Übersic
 ht über die vielfältigen Aktivitäten der Hoch- und Fachhochschulen rund um
  Themen von Industrie 4.0.\nAn einem Nachmittag werden rund 25 Hochschulpr
 ojekte im 5-Minuten-Takt aus Bereichen wie Internet of Things (IoT)\, Tech
 nologien (Robotik\, Automatisierung)\, Maschinelles lernen\, Big Data/ Dat
 a Processing\, neue Geschäftsfelder und vielem mehr vorgestellt. Sie erhal
 ten auf effiziente Art und Weise einen Überblick der Themen der nahen Zuku
 nft und erfahren\, was an den Hoch- und Fachhochschulen im Bereich Industr
 ie 4.0 geforscht und entwickelt wird.\nIn der anschliessenden Posterausste
 llung haben Sie die Möglichkeit mit den Referierenden in Kontakt zu treten
 \, sich für weitere Vorhaben inspirieren zu lassen und vielleicht auch sch
 on die ersten Weichen für eine Zusammenarbeit zu stellen.\nZielgruppe:Vert
 reter*innen der Industrie aus Entwicklung\, F&E\, Produktion und Geschäfts
 leitung Dozent*innen und Projektleitende der Hochschulen und Forschungsins
 titutionen\nKonferenzsprache:Deutsch\, Englisch und Französisch\nKosten:Vo
 r Ort mit Posterausstellung: CHF 120Live Webcast\, nur Referate: CHF 60\nW
 eitere Informationen zur Veranstaltung finde Sie hier... http://bomi40.eu/
 de/service-kompetenz/veranstaltungen/ort/event/2424-7-f-e-konferenz-zu-ind
 ustrie-4-0
DTSTART:20220125T090000Z
DTEND:20220125T150000Z
LOCATION:Kongresshaus\, Biel (Zentralstrasse 60\, 2501 Biel\, Schweiz)
SUMMARY:7. F&E-Konferenz zu Industrie 4.0 
URL:http://bomi40.eu/de/service-kompetenz/veranstaltungen/ort/event/2424-7-
 f-e-konferenz-zu-industrie-4-0
END:VEVENT
END:VCALENDAR
