BEGIN:VCALENDAR
VERSION:2.0
PRODID:-//http://bomi40.eu///NONSGML kigkonsult.se iCalcreator 2.10.15//
METHOD:PUBLISH
BEGIN:VEVENT
UID:20260419T202540CEST-2771hZgHMA@http://bomi40.eu/
DTSTAMP:20260419T182540Z
DESCRIPTION:- Zukunft des Thurgaus als Werkplatz und Dienstleistungsstandor
 t -&nbsp\;\nAm 25. März 2022 findet die 20. Ausgabe des Thurgauer Technolo
 gietages statt. Das Jubiläum begeht das Thurgauer Technologieforum mit ein
 em Spezialprogramm.\nUnter dem Titel 'Zukunft des Thurgaus als Werkplatz u
 nd Dienstleistungsstandort' wird bewusst ein weiter Bogen von der Innovati
 onspolitik bis hin zu konkreten Beispielen aus der Thurgauer Wirtschaft ge
 spannt. Im umfangreichen Referatsprogramm wird unter anderem auf die natio
 nale Innovationsförderung oder die Leistungen der Hochschulen für die Inno
 vationsfähigkeit von Thurgauer Firmen eingegangen. Zudem sollen Vertreteri
 nnen und Vertreter von Thurgauer Unternehmen aus verschiedenen Branchen ex
 emplarisch aufzeigen\, wie sie Innovation in ihren Betrieben fördern und d
 adurch auf dem Weltmarkt bestehen können.\nDas detaillierte Programm wird 
 Anfangs 2022 hier publiziert. Eine Anmeldung ist noch nicht möglich.\nWeit
 ere Informationen zur Veranstaltung finden Sie hier... http://bomi40.eu/de
 /service-kompetenz/veranstaltungen/ort/event/2428-thurgauer-technologietag
 -2022
DTSTART:20220616T070000Z
DTEND:20220616T150000Z
LOCATION:Adec Solutions GmbH\, Arbon (Industriestrasse 23\, 9320 Arbon\, Sc
 hweiz)
SUMMARY:Thurgauer Technologietag 2022
URL:http://bomi40.eu/de/service-kompetenz/veranstaltungen/ort/event/2428-th
 urgauer-technologietag-2022
END:VEVENT
END:VCALENDAR
