BEGIN:VCALENDAR
VERSION:2.0
PRODID:-//http://bomi40.eu///NONSGML kigkonsult.se iCalcreator 2.10.15//
METHOD:PUBLISH
BEGIN:VEVENT
UID:20260419T193128CEST-33984BUAl2@http://bomi40.eu/
DTSTAMP:20260419T173128Z
DESCRIPTION:Mit den bwcon Online-Seminaren bringen die Veranstalter*Innen I
 hnen praxisnahes Technologie- und Transformationswissen kompakt in einer S
 tunde näher. Sie erfahren die wichtigsten Fakten zu relevanten Themen für 
 die Digitale Transformation. Mit Hilfe der einzelnen Wissensbausteine könn
 en Sie gezielt die Digitalisierungs- und Technologiestrategie in Ihrem Unt
 ernehmen angehen und für Ihre persönliche Weiterentwicklung neues Wissen e
 rlernen.\nThemen des Seminars:Selbstbild: Welcher KI-Typ bin ich?Definitio
 n und Abgrenzung von KI/ML/DLHistorischer ExkursKerntreiber der Technologi
 eAnwendungsbeispieleAusblick\nZiel des Kurses:Der Vortrag gibt einen Überb
 lick darüber\, was Künstliche Intelligenz eigentlich ist\, woher sie kommt
  und warum sie aktuell so eine große Relevanz hat. Darüber hinaus werden e
 inige Anwendungsbeispiele sowie einen Ausblick in die Zukunft gegeben.\nZi
 elgruppe:Personen\, die sich erstmalig mit dem Thema Künstliche Intelligen
 z beschäftigen.\nPreis: Standard-Ticket Online\,&nbsp\;Preis inkl. gesetzl
 icher Umsatzsteuer 46\,41 €&nbsp\;\nAnmeldung\nWeitere Informationen zur V
 eranstaltung finden Sie hier... http://bomi40.eu/de/service-kompetenz/vera
 nstaltungen/ort/event/2432-wandel-durch-kuenstliche-intelligenz-die-digita
 le-transformation-gestalten
DTSTART:20220125T120000Z
DTEND:20220125T130000Z
LOCATION: Online an Ihrem PC oder Laptop ()
SUMMARY:Wandel durch Künstliche Intelligenz - Die digitale Transformation g
 estalten
URL:http://bomi40.eu/de/service-kompetenz/veranstaltungen/ort/event/2432-wa
 ndel-durch-kuenstliche-intelligenz-die-digitale-transformation-gestalten
END:VEVENT
END:VCALENDAR
