BEGIN:VCALENDAR
VERSION:2.0
PRODID:-//http://bomi40.eu///NONSGML kigkonsult.se iCalcreator 2.10.15//
METHOD:PUBLISH
BEGIN:VEVENT
UID:20260419T191132CEST-7612v5ZzL8@http://bomi40.eu/
DTSTAMP:20260419T171132Z
DESCRIPTION:Mit den bwcon Online-Seminaren bringen die Veranstalter*Innen I
 hnen praxisnahes Technologie- und Transformationswissen kompakt in einer S
 tunde näher. Sie erfahren die wichtigsten Fakten zu relevanten Themen für 
 die Digitale Transformation. Mit Hilfe der einzelnen Wissensbausteine könn
 en Sie gezielt die Digitalisierungs- und Technologiestrategie in Ihrem Unt
 ernehmen angehen und für Ihre persönliche Weiterentwicklung neues Wissen e
 rlernen.\nEs wird eine Einführung in die Thematik Industrie 4.0 gegeben. D
 azu gehören neben einer neuen Arbeitsweise und Unternhemenskultur auch neu
 e Möglichkeiten. Lassen Sie sich inspirieren von anschaulichen Beispielen 
 und innovativen Tipps um ihre Prozesse neu zu denken und damit einen Wettb
 ewerbsvorteil zu erlangen.\nThemen des Seminars:Bedeutung von Industrie 4.
 0Vernetze WertschöpfungProzesse neu strukturieren\nZiel des Kurses:Mitarbe
 iter:innen lernen grundsätzliche Handlungsmuster\, die erforderlich sind\,
  um Industrie 4.0 Projekte anzugehen.\nZielgruppe:Mitarbeiter:innen von Bu
 siness Development\, Vertrieb und Einkauf bzw. Mitarbeiter:innen mit Kunde
 nkontakt in Klein- und mittelständischen Unternehmen die den digitalen Tra
 nsformationsprozess proaktiv gestalten wollen\n&nbsp\;Preis:&nbsp\;46\,41 
 €\nAnmeldung\nWeitere Informationen zur Veranstaltung finden Sie hier... h
 ttp://bomi40.eu/de/service-kompetenz/veranstaltungen/ort/event/2433-einfue
 hrung-in-industrie-4-0
DTSTART:20220211T090000Z
DTEND:20220211T100000Z
LOCATION: Online an Ihrem PC oder Laptop ()
SUMMARY:Einführung in Industrie 4.0
URL:http://bomi40.eu/de/service-kompetenz/veranstaltungen/ort/event/2433-ei
 nfuehrung-in-industrie-4-0
END:VEVENT
END:VCALENDAR
