BEGIN:VCALENDAR
VERSION:2.0
PRODID:-//http://bomi40.eu///NONSGML kigkonsult.se iCalcreator 2.10.15//
METHOD:PUBLISH
BEGIN:VEVENT
UID:20260419T190941CEST-2201Ktx51h@http://bomi40.eu/
DTSTAMP:20260419T170941Z
DESCRIPTION:Unter dem Motto „Der Mensch im Fokus der digitalen Transformati
 on' informieren Sie die Bechtle Learning Services im Rahmen einer kostenlo
 sen virtuellen Messe über moderne Lernwelten und Content-Entwicklungslösun
 gen\, aktuelle Lernthemen sowie Hardware-Lösungen\, die das virtuelle Lern
 en unterstützen.\nKonkrete Themen sind u.a. diverse digitale Lernformate\,
  Learning Management Systeme\, Selfstudying Tools\, Konferenzsysteme\, Mod
 ern Workplace\, Microsoft-Neuheiten\, IT-Security\, Serious Gamification s
 owie verschiedenen Softskills.\nMit Ihrer Registrierung haben Sie noch ein
 e Woche nach der Veranstaltung Zugriff auf alle Informationen.\nDie Verans
 talter*Innen laden Sie herzlich ein und zeigen Ihnen\, welche Anbieter*Inn
 en und Technologien Sie bei Ihrer Learning Future unterstützen können. Mel
 den Sie sich noch heute an und profitieren Sie von den wertvollen Tipps un
 d Insights der Experten! Sind Sie dabei?\nAnmeldung\nWeitere Informationen
  zur Veranstaltung finden Sie&nbsp\;hier... http://bomi40.eu/de/service-ko
 mpetenz/veranstaltungen/ort/event/2434-bechtle-digital-learning-summit
DTSTART:20220120T080000Z
DTEND:20220120T160000Z
LOCATION: Online an Ihrem PC oder Laptop ()
SUMMARY:BECHTLE DIGITAL LEARNING SUMMIT.
URL:http://bomi40.eu/de/service-kompetenz/veranstaltungen/ort/event/2434-be
 chtle-digital-learning-summit
END:VEVENT
END:VCALENDAR
