BEGIN:VCALENDAR
VERSION:2.0
PRODID:-//http://bomi40.eu///NONSGML kigkonsult.se iCalcreator 2.10.15//
METHOD:PUBLISH
BEGIN:VEVENT
UID:20260419T192231CEST-3800U0MuuJ@http://bomi40.eu/
DTSTAMP:20260419T172231Z
DESCRIPTION:Viele sind sich der Gefahren von Cyberangriffen bewusst. Und do
 ch fällt man aus allen Wolken\, wenn man plötzlich betroffen ist. Wie kann
  man Gefahren vorbeugen? Was tun wenn das die IT-System oder Teile davon a
 usfallen? Und wie kommuniziert man im Krisenfall nach innen und außen? Wir
  zeigen Ihnen auf\, wie man auf solche Bedrohungen reagieren kann und wie 
 man in einfachen Schritten seine eigene «Quelle der Wahrheit» schaffen kan
 n\, die sicher ist und nicht «vergiftet» werden kann\, oder überraschend «
 austrocknet».\nZusammen mit unserem Kooperationspartner C-MATRIX führt der
  Verein Smarter Thurgau einen Mittagsevent zum Thema Schutz vor Cyberangri
 ffen für KMUs durch. Am 17. Februar 2021 startet der Event um 11:30 Uhr im
  CoWorking Weinfelden.\nProgramm:11:30 - 11:40 Uhr: Begrüßung und Kurzvors
 tellung11:40 - 12:10 Uhr: Schutz vor Cyberangriffen für KMUs12:10 - 12:30 
 Uhr: Fragen & Diskussion12:30 - 13:00 Uhr: Networking /Stehlunch\nWeitere 
 Informationen zur Veranstaltung und zur Anmeldung finden Sie&nbsp\;hier...
  http://bomi40.eu/de/service-kompetenz/veranstaltungen/ort/event/2436-schu
 tz-vor-cyber-angriffen-fuer-kmus
DTSTART:20220217T103000Z
DTEND:20220217T120000Z
LOCATION:Gaswerkstrasse 13 8570 Weinfelden (Gaswerkstrasse 13\, 8570 Weinfe
 lden\, Schweiz)
SUMMARY: Schutz vor Cyber­angriffen für KMUs
URL:http://bomi40.eu/de/service-kompetenz/veranstaltungen/ort/event/2436-sc
 hutz-vor-cyber-angriffen-fuer-kmus
END:VEVENT
END:VCALENDAR
