BEGIN:VCALENDAR
VERSION:2.0
PRODID:-//http://bomi40.eu///NONSGML kigkonsult.se iCalcreator 2.10.15//
METHOD:PUBLISH
BEGIN:VEVENT
UID:20260419T181928CEST-8632412IGu@http://bomi40.eu/
DTSTAMP:20260419T161928Z
DESCRIPTION:An einem Nachmittag werden rund 25 Hochschulprojekte im 5-Minut
 en-Takt aus Bereichen wie Internet of Things (IoT)\, Technologien (Robotik
 \, Automatisierung)\, Maschinelles lernen\, Big Data/ Data Processing\, ne
 ue Geschäftsfelder und vielem mehr vorgestellt. Sie erhalten auf effizient
 e Art und Weise einen Überblick der Themen der nahen Zukunft und erfahren\
 , was an den Hoch- und Fachhochschulen im Bereich Industrie 4.0 geforscht 
 und entwickelt wird.\nSie haben die Möglichkeit\, die Veranstaltung vor Or
 t im Kongresshaus in Biel mit zu verfolgen und anschließend an der Postera
 usstellung teilzunehmen oder online\, vom Ort Ihrer Wahl mit dabei zu sein
 .\nZielgruppe:Vertreter*innen der Industrie aus Entwicklung\, F&E\, Produk
 tion und GeschäftsleitungDozent*innen und Projektleitende der Hochschulen 
 und Forschungsinstitutionen\nSprache:Konferenzsprache: Deutsch\, Englisch 
 und Französisch\nKOSTENVor Ort mit Posterausstellung CHF 120oderLive Webca
 st\, nur Referate CHF 60\nORTKongresshaus BieloderLive Webcast\nDer Zutrit
 t an die 7. F&E-Konferenz ist auf geimpfte und genesene Personen (2G) besc
 hränkt.\nWeitere Informationen finden Sie&nbsp\;hier... http://bomi40.eu/d
 e/service-kompetenz/veranstaltungen/ort/event/2438-7-f-e-konferenz-zu-indu
 strie-4-0-hybridveranstaltung
DTSTART:20220125T090000Z
DTEND:20220125T160000Z
LOCATION:Kongresshaus Biel (Zentralstrasse 60\, 2501 Biel\, Schweiz)
SUMMARY:7. F&E-Konferenz zu Industrie 4.0 Hybridveranstaltung
URL:http://bomi40.eu/de/service-kompetenz/veranstaltungen/ort/event/2438-7-
 f-e-konferenz-zu-industrie-4-0-hybridveranstaltung
END:VEVENT
END:VCALENDAR
