BEGIN:VCALENDAR
VERSION:2.0
PRODID:-//http://bomi40.eu///NONSGML kigkonsult.se iCalcreator 2.10.15//
METHOD:PUBLISH
BEGIN:VEVENT
UID:20260419T191005CEST-3590sv57DN@http://bomi40.eu/
DTSTAMP:20260419T171005Z
DESCRIPTION:Ziel des Einführungs-Workshops ist es\, einen Einblick zu bekom
 men wie die Cyber Range dabei hilft\, ein tieferes Verständnis von gängige
 n und möglichen Angriffen sowie von Technologien und Tools zur Überwachung
 \, Erkennung und Behandlung von Cyber-Angriffen zu bekommen.\nInhalte:Inci
 dent Response: Planung von Reaktionen auf konkrete AngriffeWerkzeuge zur A
 ngriffs-Erkennung: Monitoring-Tools helfen dabei\, das Gesamtsystem zu übe
 rwachen und Angriffe zu erkennen. Solche Tools werden kurz vorgeführt.Cybe
 r-Angriffe: Die Cyber Range erlaubt es Angriffe durchzuführen\, ohne dabei
  realen Schaden zu verursachen.\nDie Veranstaltung ist kostenlos.\nWeitere
  Informationen zur Veranstaltung und zur Anmeldung finden Sie&nbsp\;hier..
 . http://bomi40.eu/de/service-kompetenz/veranstaltungen/ort/event/2442-wor
 kshop-einfuehrung-cyber-security-cyber-range-modul-security-basiswissen
DTSTART:20220126T130000Z
DTEND:20220126T150000Z
LOCATION: Online an Ihrem PC oder Laptop ()
SUMMARY:Workshop: Einführung Cyber Security & Cyber Range (Modul Security\,
  Basiswissen)
URL:http://bomi40.eu/de/service-kompetenz/veranstaltungen/ort/event/2442-wo
 rkshop-einfuehrung-cyber-security-cyber-range-modul-security-basiswissen
END:VEVENT
END:VCALENDAR
